Workbook

Sheet 汇总表（省中心）
A1: 附件4
A2: 2026年第四批普通国省道路面改善工程资金建议计划初审情况汇总表
A3: 市州 | B3: 规模（公里） | K3: 补助资金（万元） | T3: 备注
B4: 市州报送情况 | E4: 初审通过情况 | H4: 初审不通过情况 | K4: 市州报送情况 | N4: 初审通过情况 | Q4: 初审不通过情况
B5: 小计 | C5: 申报项目 | D5: 补差项目 | E5: 小计 | F5: 申报项目 | G5: 补差项目 | H5: 小计 | I5: 申报项目 | J5: 补差项目 | K5: 小计 | L5: 申报项目 | M5: 补差项目 | N5: 小计 | O5: 申报项目 | P5: 补差项目 | Q5: 小计 | R5: 申报项目 | S5: 补差项目
A6: 合计 | B6: =SUBTOTAL(9,B7:B20) -> 18.687 | C6: =SUBTOTAL(9,C7:C20) -> 5.874 | D6: =SUBTOTAL(9,D7:D20) -> 12.813 | E6: =SUBTOTAL(9,E7:E20) -> 18.687 | F6: =SUBTOTAL(9,F7:F20) -> 5.874 | G6: =SUBTOTAL(9,G7:G20) -> 12.813 | H6: =SUBTOTAL(9,H7:H20) -> 0 | I6: =SUBTOTAL(9,I7:I20) -> 0 | ... S6: =SUBTOTAL(9,S7:S20) -> 0
A7: 长沙市 | B7: 0 | C7: 0 | D7: 0 | E7: 0 | F7: 0 | G7: 0 | H7: 0 | I7: 0 | J7: 0 | K7: 0 | L7: 0 | M7: 0 | N7: 0 | O7: 0 | P7: 0 | Q7: 0 | R7: 0 | S7: 0
A8: 株洲市 | B8: 0 | C8: 0 | D8: 0 | E8: 0 | F8: 0 | G8: 0 | H8: 0 | I8: 0 | J8: 0 | K8: 0 | L8: 0 | M8: 0 | N8: 0 | O8: 0 | P8: 0 | Q8: 0 | R8: 0 | S8: 0
A9: 湘潭市 | B9: 0 | C9: 0 | D9: 0 | E9: 0 | F9: 0 | G9: 0 | H9: 0 | I9: 0 | J9: 0 | K9: 0 | L9: 0 | M9: 0 | N9: 0 | O9: 0 | P9: 0 | Q9: 0 | R9: 0 | S9: 0
A10: 衡阳市 | B10: 0 | C10: 0 | D10: 0 | E10: 0 | F10: 0 | G10: 0 | H10: 0 | I10: 0 | J10: 0 | K10: 0 | L10: 0 | M10: 0 | N10: 0 | O10: 0 | P10: 0 | Q10: 0 | R10: 0 | S10: 0
A11: 邵阳市 | B11: 0 | C11: 0 | D11: 0 | E11: 0 | F11: 0 | G11: 0 | H11: 0 | I11: 0 | J11: 0 | K11: 0 | L11: 0 | M11: 0 | N11: 0 | O11: 0 | P11: 0 | Q11: 0 | R11: 0 | S11: 0
A12: 岳阳市 | B12: 12.293 | C12: 3.784 | D12: 8.509 | E12: 12.293 | F12: 3.784 | G12: 8.509 | H12: 0 | I12: 0 | J12: 0 | K12: 707.30485 | L12: 432.8896 | M12: 274.41525 | N12: 707.30485 | O12: 432.8896 | P12: 274.41525 | Q12: 0 | R12: 0 | S12: 0
A13: 常德市 | B13: 0 | C13: 0 | D13: 0 | E13: 0 | F13: 0 | G13: 0 | H13: 0 | I13: 0 | J13: 0 | K13: 0 | L13: 0 | M13: 0 | N13: 0 | O13: 0 | P13: 0 | Q13: 0 | R13: 0 | S13: 0
A14: 张家界市 | B14: 0 | C14: 0 | D14: 0 | E14: 0 | F14: 0 | G14: 0 | H14: 0 | I14: 0 | J14: 0 | K14: 0 | L14: 0 | M14: 0 | N14: 0 | O14: 0 | P14: 0 | Q14: 0 | R14: 0 | S14: 0
A15: 益阳市 | B15: 0 | C15: 0 | D15: 0 | E15: 0 | F15: 0 | G15: 0 | H15: 0 | I15: 0 | J15: 0 | K15: 0 | L15: 0 | M15: 0 | N15: 0 | O15: 0 | P15: 0 | Q15: 0 | R15: 0 | S15: 0
A16: 郴州市 | B16: 0 | C16: 0 | D16: 0 | E16: 0 | F16: 0 | G16: 0 | H16: 0 | I16: 0 | J16: 0 | K16: 0 | L16: 0 | M16: 0 | N16: 0 | O16: 0 | P16: 0 | Q16: 0 | R16: 0 | S16: 0
A17: 永州市 | B17: 6.394 | C17: 2.09 | D17: 4.304 | E17: 6.394 | F17: 2.09 | G17: 4.304 | H17: 0 | I17: 0 | J17: 0 | K17: 342.5204 | L17: 232.4384 | M17: 110.082 | N17: 342.5204 | O17: 232.4384 | P17: 110.082 | Q17: 0 | R17: 0 | S17: 0
A18: 怀化市 | B18: 0 | C18: 0 | D18: 0 | E18: 0 | F18: 0 | G18: 0 | H18: 0 | I18: 0 | J18: 0 | K18: 0 | L18: 0 | M18: 0 | N18: 0 | O18: 0 | P18: 0 | Q18: 0 | R18: 0 | S18: 0
... A20: 湘西州 | B20: 0 | C20: 0 | D20: 0 | E20: 0 | F20: 0 | G20: 0 | H20: 0 | I20: 0 | J20: 0 | K20: 0 | L20: 0 | M20: 0 | N20: 0 | O20: 0 | P20: 0 | Q20: 0 | R20: 0 | S20: 0

Sheet 汇总表111
A1: 附件4
A2: 普通国省道路面改善工程资金建议计划项目汇总表
A3: 市州 | B3: 通过项目合计 | D3: 计划申报项目 | J3: 计划补差 | L3: 备注
D4: 市州申报情况 | F4: 项目初审通过情况 | H4: 项目初审不通过情况 | J4: 里程 （公里） | K4: 拟申请国省补助资金（万元）
B5: 里程 （公里） | C5: 拟申请国省补助资金（万元） | D5: 里程 （公里） | E5: 拟申请国省补助资金（万元） | F5: 里程 （公里） | G5: 拟申请国省补助资金（万元） | H5: 里程 （公里） | I5: 拟申请国省补助资金（万元）
A6: 合计 | B6: =ROUNDDOWN(F6+J6,0) -> #REF! | C6: =SUM(C7:C20) -> #REF! | D6: =SUM(D7:D20) -> #REF! | E6: =SUM(E7:E20) -> #REF! | F6: =SUM(F7:F20) -> #REF! | G6: =SUM(G7:G20) -> #REF! | H6: =SUM(H7:H20) -> #REF! | I6: =SUM(I7:I20) -> #REF! | J6: =SUM(J7:J20) -> #REF! | K6: =SUM(K7:K20) -> #REF!
A7: 长沙市 | B7: =F7+J7 -> #REF! | C7: =G7+K7 -> #REF! | D7: =SUMIFS(明细表!J:J,明细表!B:B,A7,明细表!#REF!,"省公路事务中心") -> #REF! | E7: =SUMIFS(明细表!#REF!,明细表!B:B,A7,明细表!#REF!,"省公路事务中心") -> #REF! | F7: =SUMIFS(明细表!J:J,明细表!B:B,A7,明细表!#REF!,"通过",明细表!#REF!,"省公路事务中心") -> #REF! | G7: =SUMIFS(明细表!#REF!,明细表!B:B,A7,明细表!#REF!,"通过",明细表!#REF!,"省公路事务中心") -> #REF! | H7: =SUMIFS(明细表!J:J,明细表!B:B,A7,明细表!#REF!,"不通过",明细表!#REF!,"省公路事务中心") -> #REF! | I7: =SUMIFS(明细表!#REF!,明细表!B:B,A7,明细表!#REF!,"不通过",明细表!#REF!,"省公路事务中心") -> #REF! | J7: =SUMIFS(明细表!J:J,明细表!B:B,A7,明细表!#REF!,"调整项目") -> #REF! | K7: =SUMIFS(明细表!#REF!,明细表!B:B,A7,明细表!#REF!,"调整项目") -> #REF!
A8: 株洲市 | B8: =F8+J8 -> #REF! | C8: =G8+K8 -> #REF! | D8: =SUMIFS(明细表!J:J,明细表!B:B,A8,明细表!#REF!,"省公路事务中心") -> #REF! | E8: =SUMIFS(明细表!#REF!,明细表!B:B,A8,明细表!#REF!,"省公路事务中心") -> #REF! | F8: =SUMIFS(明细表!J:J,明细表!B:B,A8,明细表!#REF!,"通过",明细表!#REF!,"省公路事务中心") -> #REF! | G8: =SUMIFS(明细表!#REF!,明细表!B:B,A8,明细表!#REF!,"通过",明细表!#REF!,"省公路事务中心") -> #REF! | H8: =SUMIFS(明细表!J:J,明细表!B:B,A8,明细表!#REF!,"不通过",明细表!#REF!,"省公路事务中心") -> #REF! | I8: =SUMIFS(明细表!#REF!,明细表!B:B,A8,明细表!#REF!,"不通过",明细表!#REF!,"省公路事务中心") -> #REF! | J8: =SUMIFS(明细表!J:J,明细表!B:B,A8,明细表!#REF!,"调整项目") -> #REF! | K8: =SUMIFS(明细表!#REF!,明细表!B:B,A8,明细表!#REF!,"调整项目") -> #REF!
A9: 湘潭市 | B9: =F9+J9 -> #REF! | C9: =G9+K9 -> #REF! | D9: =SUMIFS(明细表!J:J,明细表!B:B,A9,明细表!#REF!,"省公路事务中心") -> #REF! | E9: =SUMIFS(明细表!#REF!,明细表!B:B,A9,明细表!#REF!,"省公路事务中心") -> #REF! | F9: =SUMIFS(明细表!J:J,明细表!B:B,A9,明细表!#REF!,"通过",明细表!#REF!,"省公路事务中心") -> #REF! | G9: =SUMIFS(明细表!#REF!,明细表!B:B,A9,明细表!#REF!,"通过",明细表!#REF!,"省公路事务中心") -> #REF! | H9: =SUMIFS(明细表!J:J,明细表!B:B,A9,明细表!#REF!,"不通过",明细表!#REF!,"省公路事务中心") -> #REF! | I9: =SUMIFS(明细表!#REF!,明细表!B:B,A9,明细表!#REF!,"不通过",明细表!#REF!,"省公路事务中心") -> #REF! | J9: =SUMIFS(明细表!J:J,明细表!B:B,A9,明细表!#REF!,"调整项目") -> #REF! | K9: =SUMIFS(明细表!#REF!,明细表!B:B,A9,明细表!#REF!,"调整项目") -> #REF!
A10: 衡阳市 | B10: =F10+J10 -> #REF! | C10: =G10+K10 -> #REF! | D10: =SUMIFS(明细表!J:J,明细表!B:B,A10,明细表!#REF!,"省公路事务中心") -> #REF! | E10: =SUMIFS(明细表!#REF!,明细表!B:B,A10,明细表!#REF!,"省公路事务中心") -> #REF! | F10: =SUMIFS(明细表!J:J,明细表!B:B,A10,明细表!#REF!,"通过",明细表!#REF!,"省公路事务中心") -> #REF! | G10: =SUMIFS(明细表!#REF!,明细表!B:B,A10,明细表!#REF!,"通过",明细表!#REF!,"省公路事务中心") -> #REF! | H10: =SUMIFS(明细表!J:J,明细表!B:B,A10,明细表!#REF!,"不通过",明细表!#REF!,"省公路事务中心") -> #REF! | I10: =SUMIFS(明细表!#REF!,明细表!B:B,A10,明细表!#REF!,"不通过",明细表!#REF!,"省公路事务中心") -> #REF! | J10: =SUMIFS(明细表!J:J,明细表!B:B,A10,明细表!#REF!,"调整项目") -> #REF! | K10: =SUMIFS(明细表!#REF!,明细表!B:B,A10,明细表!#REF!,"调整项目") -> #REF!
A11: 邵阳市 | B11: =F11+J11 -> #REF! | C11: =G11+K11 -> #REF! | D11: =SUMIFS(明细表!J:J,明细表!B:B,A11,明细表!#REF!,"省公路事务中心") -> #REF! | E11: =SUMIFS(明细表!#REF!,明细表!B:B,A11,明细表!#REF!,"省公路事务中心") -> #REF! | F11: =SUMIFS(明细表!J:J,明细表!B:B,A11,明细表!#REF!,"通过",明细表!#REF!,"省公路事务中心") -> #REF! | G11: =SUMIFS(明细表!#REF!,明细表!B:B,A11,明细表!#REF!,"通过",明细表!#REF!,"省公路事务中心") -> #REF! | H11: =SUMIFS(明细表!J:J,明细表!B:B,A11,明细表!#REF!,"不通过",明细表!#REF!,"省公路事务中心") -> #REF! | I11: =SUMIFS(明细表!#REF!,明细表!B:B,A11,明细表!#REF!,"不通过",明细表!#REF!,"省公路事务中心") -> #REF! | J11: =SUMIFS(明细表!J:J,明细表!B:B,A11,明细表!#REF!,"调整项目") -> #REF! | K11: =SUMIFS(明细表!#REF!,明细表!B:B,A11,明细表!#REF!,"调整项目") -> #REF!
A12: 岳阳市 | B12: =F12+J12 -> #REF! | C12: =G12+K12 -> #REF! | D12: =SUMIFS(明细表!J:J,明细表!B:B,A12,明细表!#REF!,"省公路事务中心") -> #REF! | E12: =SUMIFS(明细表!#REF!,明细表!B:B,A12,明细表!#REF!,"省公路事务中心") -> #REF! | F12: =SUMIFS(明细表!J:J,明细表!B:B,A12,明细表!#REF!,"通过",明细表!#REF!,"省公路事务中心") -> #REF! | G12: =SUMIFS(明细表!#REF!,明细表!B:B,A12,明细表!#REF!,"通过",明细表!#REF!,"省公路事务中心") -> #REF! | H12: =SUMIFS(明细表!J:J,明细表!B:B,A12,明细表!#REF!,"不通过",明细表!#REF!,"省公路事务中心") -> #REF! | I12: =SUMIFS(明细表!#REF!,明细表!B:B,A12,明细表!#REF!,"不通过",明细表!#REF!,"省公路事务中心") -> #REF! | J12: =SUMIFS(明细表!J:J,明细表!B:B,A12,明细表!#REF!,"调整项目") -> #REF! | K12: =SUMIFS(明细表!#REF!,明细表!B:B,A12,明细表!#REF!,"调整项目") -> #REF!
A13: 常德市 | B13: =F13+J13 -> #REF! | C13: =G13+K13 -> #REF! | D13: =SUMIFS(明细表!J:J,明细表!B:B,A13,明细表!#REF!,"省公路事务中心") -> #REF! | E13: =SUMIFS(明细表!#REF!,明细表!B:B,A13,明细表!#REF!,"省公路事务中心") -> #REF! | F13: =SUMIFS(明细表!J:J,明细表!B:B,A13,明细表!#REF!,"通过",明细表!#REF!,"省公路事务中心") -> #REF! | G13: =SUMIFS(明细表!#REF!,明细表!B:B,A13,明细表!#REF!,"通过",明细表!#REF!,"省公路事务中心") -> #REF! | H13: =SUMIFS(明细表!J:J,明细表!B:B,A13,明细表!#REF!,"不通过",明细表!#REF!,"省公路事务中心") -> #REF! | I13: =SUMIFS(明细表!#REF!,明细表!B:B,A13,明细表!#REF!,"不通过",明细表!#REF!,"省公路事务中心") -> #REF! | J13: =SUMIFS(明细表!J:J,明细表!B:B,A13,明细表!#REF!,"调整项目") -> #REF! | K13: =SUMIFS(明细表!#REF!,明细表!B:B,A13,明细表!#REF!,"调整项目") -> #REF!
A14: 张家界市 | B14: =F14+J14 -> #REF! | C14: =G14+K14 -> #REF! | D14: =SUMIFS(明细表!J:J,明细表!B:B,A14,明细表!#REF!,"省公路事务中心") -> #REF! | E14: =SUMIFS(明细表!#REF!,明细表!B:B,A14,明细表!#REF!,"省公路事务中心") -> #REF! | F14: =SUMIFS(明细表!J:J,明细表!B:B,A14,明细表!#REF!,"通过",明细表!#REF!,"省公路事务中心") -> #REF! | G14: =SUMIFS(明细表!#REF!,明细表!B:B,A14,明细表!#REF!,"通过",明细表!#REF!,"省公路事务中心") -> #REF! | H14: =SUMIFS(明细表!J:J,明细表!B:B,A14,明细表!#REF!,"不通过",明细表!#REF!,"省公路事务中心") -> #REF! | I14: =SUMIFS(明细表!#REF!,明细表!B:B,A14,明细表!#REF!,"不通过",明细表!#REF!,"省公路事务中心") -> #REF! | J14: =SUMIFS(明细表!J:J,明细表!B:B,A14,明细表!#REF!,"调整项目") -> #REF! | K14: =SUMIFS(明细表!#REF!,明细表!B:B,A14,明细表!#REF!,"调整项目") -> #REF!
A15: 益阳市 | B15: =F15+J15 -> #REF! | C15: =G15+K15 -> #REF! | D15: =SUMIFS(明细表!J:J,明细表!B:B,A15,明细表!#REF!,"省公路事务中心") -> #REF! | E15: =SUMIFS(明细表!#REF!,明细表!B:B,A15,明细表!#REF!,"省公路事务中心") -> #REF! | F15: =SUMIFS(明细表!J:J,明细表!B:B,A15,明细表!#REF!,"通过",明细表!#REF!,"省公路事务中心") -> #REF! | G15: =SUMIFS(明细表!#REF!,明细表!B:B,A15,明细表!#REF!,"通过",明细表!#REF!,"省公路事务中心") -> #REF! | H15: =SUMIFS(明细表!J:J,明细表!B:B,A15,明细表!#REF!,"不通过",明细表!#REF!,"省公路事务中心") -> #REF! | I15: =SUMIFS(明细表!#REF!,明细表!B:B,A15,明细表!#REF!,"不通过",明细表!#REF!,"省公路事务中心") -> #REF! | J15: =SUMIFS(明细表!J:J,明细表!B:B,A15,明细表!#REF!,"调整项目") -> #REF! | K15: =SUMIFS(明细表!#REF!,明细表!B:B,A15,明细表!#REF!,"调整项目") -> #REF!
A16: 郴州市 | B16: =F16+J16 -> #REF! | C16: =G16+K16 -> #REF! | D16: =SUMIFS(明细表!J:J,明细表!B:B,A16,明细表!#REF!,"省公路事务中心") -> #REF! | E16: =SUMIFS(明细表!#REF!,明细表!B:B,A16,明细表!#REF!,"省公路事务中心") -> #REF! | F16: =SUMIFS(明细表!J:J,明细表!B:B,A16,明细表!#REF!,"通过",明细表!#REF!,"省公路事务中心") -> #REF! | G16: =SUMIFS(明细表!#REF!,明细表!B:B,A16,明细表!#REF!,"通过",明细表!#REF!,"省公路事务中心") -> #REF! | H16: =SUMIFS(明细表!J:J,明细表!B:B,A16,明细表!#REF!,"不通过",明细表!#REF!,"省公路事务中心") -> #REF! | I16: =SUMIFS(明细表!#REF!,明细表!B:B,A16,明细表!#REF!,"不通过",明细表!#REF!,"省公路事务中心") -> #REF! | J16: =SUMIFS(明细表!J:J,明细表!B:B,A16,明细表!#REF!,"调整项目") -> #REF! | K16: =SUMIFS(明细表!#REF!,明细表!B:B,A16,明细表!#REF!,"调整项目") -> #REF!
A17: 永州市 | B17: =F17+J17 -> #REF! | C17: =G17+K17 -> #REF! | D17: =SUMIFS(明细表!J:J,明细表!B:B,A17,明细表!#REF!,"省公路事务中心") -> #REF! | E17: =SUMIFS(明细表!#REF!,明细表!B:B,A17,明细表!#REF!,"省公路事务中心") -> #REF! | F17: =SUMIFS(明细表!J:J,明细表!B:B,A17,明细表!#REF!,"通过",明细表!#REF!,"省公路事务中心") -> #REF! | G17: =SUMIFS(明细表!#REF!,明细表!B:B,A17,明细表!#REF!,"通过",明细表!#REF!,"省公路事务中心") -> #REF! | H17: =SUMIFS(明细表!J:J,明细表!B:B,A17,明细表!#REF!,"不通过",明细表!#REF!,"省公路事务中心") -> #REF! | I17: =SUMIFS(明细表!#REF!,明细表!B:B,A17,明细表!#REF!,"不通过",明细表!#REF!,"省公路事务中心") -> #REF! | J17: =SUMIFS(明细表!J:J,明细表!B:B,A17,明细表!#REF!,"调整项目") -> #REF! | K17: =SUMIFS(明细表!#REF!,明细表!B:B,A17,明细表!#REF!,"调整项目") -> #REF!
A18: 怀化市 | B18: =F18+J18 -> #REF! | C18: =G18+K18 -> #REF! | D18: =SUMIFS(明细表!J:J,明细表!B:B,A18,明细表!#REF!,"省公路事务中心") -> #REF! | E18: =SUMIFS(明细表!#REF!,明细表!B:B,A18,明细表!#REF!,"省公路事务中心") -> #REF! | F18: =SUMIFS(明细表!J:J,明细表!B:B,A18,明细表!#REF!,"通过",明细表!#REF!,"省公路事务中心") -> #REF! | G18: =SUMIFS(明细表!#REF!,明细表!B:B,A18,明细表!#REF!,"通过",明细表!#REF!,"省公路事务中心") -> #REF! | H18: =SUMIFS(明细表!J:J,明细表!B:B,A18,明细表!#REF!,"不通过",明细表!#REF!,"省公路事务中心") -> #REF! | I18: =SUMIFS(明细表!#REF!,明细表!B:B,A18,明细表!#REF!,"不通过",明细表!#REF!,"省公路事务中心") -> #REF! | J18: =SUMIFS(明细表!J:J,明细表!B:B,A18,明细表!#REF!,"调整项目") -> #REF! | K18: =SUMIFS(明细表!#REF!,明细表!B:B,A18,明细表!#REF!,"调整项目") -> #REF!
... A20: 湘西州 | B20: =F20+J20 -> #REF! | C20: =G20+K20 -> #REF! | D20: =SUMIFS(明细表!J:J,明细表!B:B,A20,明细表!#REF!,"省公路事务中心") -> #REF! | E20: =SUMIFS(明细表!#REF!,明细表!B:B,A20,明细表!#REF!,"省公路事务中心") -> #REF! | F20: =SUMIFS(明细表!J:J,明细表!B:B,A20,明细表!#REF!,"通过",明细表!#REF!,"省公路事务中心") -> #REF! | G20: =SUMIFS(明细表!#REF!,明细表!B:B,A20,明细表!#REF!,"通过",明细表!#REF!,"省公路事务中心") -> #REF! | H20: =SUMIFS(明细表!J:J,明细表!B:B,A20,明细表!#REF!,"不通过",明细表!#REF!,"省公路事务中心") -> #REF! | I20: =SUMIFS(明细表!#REF!,明细表!B:B,A20,明细表!#REF!,"不通过",明细表!#REF!,"省公路事务中心") -> #REF! | J20: =SUMIFS(明细表!J:J,明细表!B:B,A20,明细表!#REF!,"调整项目") -> #REF! | K20: =SUMIFS(明细表!#REF!,明细表!B:B,A20,明细表!#REF!,"调整项目") -> #REF!

Sheet 明细表
A1: 附件2
A2: 2026年第三批普通国省道路面改善工程计划表
A3: 序号 | B3: 市州 | C3: 县区 | D3: 计划信息 | G3: 12505km线路情况 | J3: 里程（公里） | K3: 原技术等级 | L3: 原路面宽度 | M3: 原路面结构 | N3: 实施技术等级 | O3: 实施路面宽度 | P3: 路面结构最低要求
D4: 路线编码 | E4: 起点桩号 | F4: 终点桩号 | G4: 路线编码 | H4: 起点桩号 | I4: 终点桩号 | P4: 实施就地冷再生厚度（cm) | Q4: 旧水泥路面处治方案 | R4: 基层结构 | S4: 基层厚度（cm) | T4: 面层结构 | U4: 面层厚度（cm)
B5: 全省汇总 | J5: =J6+J10 -> 5.874
B6: 岳阳市 汇总 | J6: =SUBTOTAL(9,J7) -> 3.784
A7: 1 | B7: 岳阳市 | C7: 华容县 | D7: S502 | E7: 18.816 | F7: 22.6 | G7: S502 | H7: 18.816 | I7: 22.6 | J7: 3.784 | K7: 四级 | L7: 5 | M7: 水泥混凝土 | N7: 四级 | O7: 6.5 | Q7: 多锤头碎石化后加铺 | R7: 水稳 | S7: 30 | T7: 改性沥青砼 | U7: 9
B8: 岳阳市 | C8: 临湘市 | D8: S203 | E8: 21.48 | F8: 25.755 | J8: 4.275 | K8: 四级 | L8: 6 | M8: 沥青混凝土 | N8: 三级 | O8: 7.5 | Q8: 旧路病害处治后加铺 | R8: 水稳 | S8: 30 | T8: 改性沥青砼 | U8: 9
B9: 岳阳市 | C9: 临湘市 | D9: S203 | E9: 26.627 | F9: 30.861 | J9: 4.234 | K9: 四级 | L9: 6 | M9: 沥青混凝土 | N9: 三级 | O9: 7.5 | Q9: 旧路病害处治后加铺 | R9: 水稳 | S9: 30 | T9: 改性沥青砼 | U9: 9
B10: 永州市 汇总 | J10: =SUBTOTAL(9,J11:J13) -> 2.09
A11: 2 | B11: 永州市 | C11: 冷水滩区 | D11: S575 | E11: 20.364 | F11: 21.181 | G11: 农村公路新升级 | J11: 0.817 | K11: 四级 | L11: 5 | M11: 水泥混凝土 | N11: 三级 | O11: 7.5 | Q11: 旧路病害处治后加铺 | T11: 改性沥青砼 | U11: 8
A12: 3 | B12: 永州市 | C12: 冷水滩区 | D12: S575 | E12: 21.181 | F12: 21.58 | G12: 农村公路新升级 | J12: 0.399 | K12: 四级 | L12: 5 | M12: 水泥混凝土 | N12: 三级 | O12: 7.5 | Q12: 多锤头碎石化后加铺 | R12: 水稳 | S12: 30 | T12: 改性沥青砼 | U12: 9
A13: 4 | B13: 永州市 | C13: 冷水滩区 | D13: S575 | E13: 37.892 | F13: 38.766 | G13: 农村公路新升级 | J13: 0.874 | K13: 四级 | L13: 6 | M13: 水泥混凝土 | N13: 二级 | O13: 8.5 | Q13: 多锤头碎石化后加铺 | R13: 水稳 | S13: 30 | T13: 改性沥青砼 | U13: 9
B14: 永州市 | C14: 祁阳县 | D14: S339 | E14: 83.067 | F14: 83.98 | J14: =F14-E14 -> 0.913 | K14: 四级 | L14: 6 | M14: 水泥混凝土 | N14: 三级 | O14: 8.5 | Q14: 多锤头碎石化后加铺 | R14: 水稳 | S14: 30 | T14: 改性沥青砼 | U14: 9
B15: 永州市 | C15: 祁阳县 | D15: S339 | E15: 83.98 | F15: 85.4 | J15: =F15-E15 -> 1.42 | K15: 四级 | L15: 6 | M15: 水泥混凝土 | N15: 三级 | O15: 8.5 | Q15: 多锤头碎石化后加铺 | R15: ATB | S15: 10 | T15: 改性沥青砼 | U15: 5
B16: 永州市 | C16: 祁阳县 | D16: S339 | E16: 85.4 | F16: 87.371 | J16: =F16-E16 -> 1.971 | K16: 四级 | L16: 6 | M16: 水泥混凝土 | N16: 三级 | O16: 8.5 | Q16: 多锤头碎石化后加铺 | R16: 水稳 | S16: 30 | T16: 改性沥青砼 | U16: 9
