Workbook

Sheet 汇总表11
A1: 附件8
A2: 普通国省道示范工程资金建议计划汇总表
A3: 市州 | B3: 合计 | F3: 服务区 | J3: 养护站 | N3: 观景台 | R3: 备注
B4: 市州上报数量（个） | C4: 初审通过项目（个） | D4: 其中任务计划项目（个） | E4: 初审通过补助资金（万元） | F4: 市州上报数量（个） | G4: 初审通过项目（个） | H4: 其中任务计划项目（个） | I4: 初审通过补助资金（万元） | J4: 市州上报数量（个） | K4: 初审通过项目（个） | L4: 其中任务计划项目（个） | M4: 初审通过补助资金（万元） | N4: 市州上报数量（个） | O4: 初审通过项目（个） | P4: 其中任务计划项目（个） | Q4: 初审通过补助资金（万元）
A5: 合计 | B5: =SUM(B6:B19) -> #REF! | C5: =SUM(C6:C19) -> #REF! | D5: =SUM(D6:D19) -> #REF! | E5: =SUM(E6:E19) -> #REF! | F5: =SUM(F6:F19) -> #REF! | G5: =SUM(G6:G19) -> #REF! | H5: =SUM(H6:H19) -> #REF! | I5: =SUM(I6:I19) -> #REF! | ... Q5: =SUM(Q6:Q19) -> #REF!
A6: 长沙市 | B6: =F6+J6+N6 -> #REF! | C6: =G6+K6+O6 -> #REF! | D6: =H6+L6+P6 -> #REF! | E6: =I6+M6+Q6 -> #REF! | F6: =COUNTIFS(#REF!,A6,#REF!,"省公路事务中心") -> #REF! | G6: =COUNTIFS(#REF!,A6,#REF!,"省公路事务中心",#REF!,"通过") -> #REF! | H6: =COUNTIFS(#REF!,A6,#REF!,"省公路事务中心",#REF!,"通过",#REF!,"是") -> #REF! | I6: =SUMIFS(#REF!,#REF!,A6,#REF!,"省公路事务中心",#REF!,"通过") -> #REF! | J6: =COUNTIFS(#REF!,A6,#REF!,"省公路事务中心") -> #REF! | K6: =COUNTIFS(#REF!,A6,#REF!,"省公路事务中心",#REF!,"通过") -> #REF! | L6: =COUNTIFS(#REF!,A6,#REF!,"省公路事务中心",#REF!,"通过",#REF!,"是") -> #REF! | M6: =SUMIFS(#REF!,#REF!,A6,#REF!,"省公路事务中心",#REF!,"通过") -> #REF! | N6: =COUNTIFS(观景台!B:B,A6,观景台!#REF!,"省公路事务中心") -> #REF! | O6: =COUNTIFS(观景台!B:B,A6,观景台!#REF!,"省公路事务中心",观景台!#REF!,"通过") -> #REF! | P6: =COUNTIFS(观景台!B:B,A6,观景台!#REF!,"省公路事务中心",观景台!#REF!,"通过",观景台!#REF!,"是") -> #REF! | Q6: =SUMIFS(观景台!#REF!,观景台!B:B,A6,观景台!#REF!,"省公路事务中心",观景台!#REF!,"通过") -> #REF!
A7: 株洲市 | B7: =F7+J7+N7 -> #REF! | C7: =G7+K7+O7 -> #REF! | D7: =H7+L7+P7 -> #REF! | E7: =I7+M7+Q7 -> #REF! | F7: =COUNTIFS(#REF!,A7,#REF!,"省公路事务中心") -> #REF! | G7: =COUNTIFS(#REF!,A7,#REF!,"省公路事务中心",#REF!,"通过") -> #REF! | H7: =COUNTIFS(#REF!,A7,#REF!,"省公路事务中心",#REF!,"通过",#REF!,"是") -> #REF! | I7: =SUMIFS(#REF!,#REF!,A7,#REF!,"省公路事务中心",#REF!,"通过") -> #REF! | J7: =COUNTIFS(#REF!,A7,#REF!,"省公路事务中心") -> #REF! | K7: =COUNTIFS(#REF!,A7,#REF!,"省公路事务中心",#REF!,"通过") -> #REF! | L7: =COUNTIFS(#REF!,A7,#REF!,"省公路事务中心",#REF!,"通过",#REF!,"是") -> #REF! | M7: =SUMIFS(#REF!,#REF!,A7,#REF!,"省公路事务中心",#REF!,"通过") -> #REF! | N7: =COUNTIFS(观景台!B:B,A7,观景台!#REF!,"省公路事务中心") -> #REF! | O7: =COUNTIFS(观景台!B:B,A7,观景台!#REF!,"省公路事务中心",观景台!#REF!,"通过") -> #REF! | P7: =COUNTIFS(观景台!B:B,A7,观景台!#REF!,"省公路事务中心",观景台!#REF!,"通过",观景台!#REF!,"是") -> #REF! | Q7: =SUMIFS(观景台!#REF!,观景台!B:B,A7,观景台!#REF!,"省公路事务中心",观景台!#REF!,"通过") -> #REF!
A8: 湘潭市 | B8: =F8+J8+N8 -> #REF! | C8: =G8+K8+O8 -> #REF! | D8: =H8+L8+P8 -> #REF! | E8: =I8+M8+Q8 -> #REF! | F8: =COUNTIFS(#REF!,A8,#REF!,"省公路事务中心") -> #REF! | G8: =COUNTIFS(#REF!,A8,#REF!,"省公路事务中心",#REF!,"通过") -> #REF! | H8: =COUNTIFS(#REF!,A8,#REF!,"省公路事务中心",#REF!,"通过",#REF!,"是") -> #REF! | I8: =SUMIFS(#REF!,#REF!,A8,#REF!,"省公路事务中心",#REF!,"通过") -> #REF! | J8: =COUNTIFS(#REF!,A8,#REF!,"省公路事务中心") -> #REF! | K8: =COUNTIFS(#REF!,A8,#REF!,"省公路事务中心",#REF!,"通过") -> #REF! | L8: =COUNTIFS(#REF!,A8,#REF!,"省公路事务中心",#REF!,"通过",#REF!,"是") -> #REF! | M8: =SUMIFS(#REF!,#REF!,A8,#REF!,"省公路事务中心",#REF!,"通过") -> #REF! | N8: =COUNTIFS(观景台!B:B,A8,观景台!#REF!,"省公路事务中心") -> #REF! | O8: =COUNTIFS(观景台!B:B,A8,观景台!#REF!,"省公路事务中心",观景台!#REF!,"通过") -> #REF! | P8: =COUNTIFS(观景台!B:B,A8,观景台!#REF!,"省公路事务中心",观景台!#REF!,"通过",观景台!#REF!,"是") -> #REF! | Q8: =SUMIFS(观景台!#REF!,观景台!B:B,A8,观景台!#REF!,"省公路事务中心",观景台!#REF!,"通过") -> #REF!
A9: 衡阳市 | B9: =F9+J9+N9 -> #REF! | C9: =G9+K9+O9 -> #REF! | D9: =H9+L9+P9 -> #REF! | E9: =I9+M9+Q9 -> #REF! | F9: =COUNTIFS(#REF!,A9,#REF!,"省公路事务中心") -> #REF! | G9: =COUNTIFS(#REF!,A9,#REF!,"省公路事务中心",#REF!,"通过") -> #REF! | H9: =COUNTIFS(#REF!,A9,#REF!,"省公路事务中心",#REF!,"通过",#REF!,"是") -> #REF! | I9: =SUMIFS(#REF!,#REF!,A9,#REF!,"省公路事务中心",#REF!,"通过") -> #REF! | J9: =COUNTIFS(#REF!,A9,#REF!,"省公路事务中心") -> #REF! | K9: =COUNTIFS(#REF!,A9,#REF!,"省公路事务中心",#REF!,"通过") -> #REF! | L9: =COUNTIFS(#REF!,A9,#REF!,"省公路事务中心",#REF!,"通过",#REF!,"是") -> #REF! | M9: =SUMIFS(#REF!,#REF!,A9,#REF!,"省公路事务中心",#REF!,"通过") -> #REF! | N9: =COUNTIFS(观景台!B:B,A9,观景台!#REF!,"省公路事务中心") -> #REF! | O9: =COUNTIFS(观景台!B:B,A9,观景台!#REF!,"省公路事务中心",观景台!#REF!,"通过") -> #REF! | P9: =COUNTIFS(观景台!B:B,A9,观景台!#REF!,"省公路事务中心",观景台!#REF!,"通过",观景台!#REF!,"是") -> #REF! | Q9: =SUMIFS(观景台!#REF!,观景台!B:B,A9,观景台!#REF!,"省公路事务中心",观景台!#REF!,"通过") -> #REF!
A10: 邵阳市 | B10: =F10+J10+N10 -> #REF! | C10: =G10+K10+O10 -> #REF! | D10: =H10+L10+P10 -> #REF! | E10: =I10+M10+Q10 -> #REF! | F10: =COUNTIFS(#REF!,A10,#REF!,"省公路事务中心") -> #REF! | G10: =COUNTIFS(#REF!,A10,#REF!,"省公路事务中心",#REF!,"通过") -> #REF! | H10: =COUNTIFS(#REF!,A10,#REF!,"省公路事务中心",#REF!,"通过",#REF!,"是") -> #REF! | I10: =SUMIFS(#REF!,#REF!,A10,#REF!,"省公路事务中心",#REF!,"通过") -> #REF! | J10: =COUNTIFS(#REF!,A10,#REF!,"省公路事务中心") -> #REF! | K10: =COUNTIFS(#REF!,A10,#REF!,"省公路事务中心",#REF!,"通过") -> #REF! | L10: =COUNTIFS(#REF!,A10,#REF!,"省公路事务中心",#REF!,"通过",#REF!,"是") -> #REF! | M10: =SUMIFS(#REF!,#REF!,A10,#REF!,"省公路事务中心",#REF!,"通过") -> #REF! | N10: =COUNTIFS(观景台!B:B,A10,观景台!#REF!,"省公路事务中心") -> #REF! | O10: =COUNTIFS(观景台!B:B,A10,观景台!#REF!,"省公路事务中心",观景台!#REF!,"通过") -> #REF! | P10: =COUNTIFS(观景台!B:B,A10,观景台!#REF!,"省公路事务中心",观景台!#REF!,"通过",观景台!#REF!,"是") -> #REF! | Q10: =SUMIFS(观景台!#REF!,观景台!B:B,A10,观景台!#REF!,"省公路事务中心",观景台!#REF!,"通过") -> #REF!
A11: 岳阳市 | B11: =F11+J11+N11 -> #REF! | C11: =G11+K11+O11 -> #REF! | D11: =H11+L11+P11 -> #REF! | E11: =I11+M11+Q11 -> #REF! | F11: =COUNTIFS(#REF!,A11,#REF!,"省公路事务中心") -> #REF! | G11: =COUNTIFS(#REF!,A11,#REF!,"省公路事务中心",#REF!,"通过") -> #REF! | H11: =COUNTIFS(#REF!,A11,#REF!,"省公路事务中心",#REF!,"通过",#REF!,"是") -> #REF! | I11: =SUMIFS(#REF!,#REF!,A11,#REF!,"省公路事务中心",#REF!,"通过") -> #REF! | J11: =COUNTIFS(#REF!,A11,#REF!,"省公路事务中心") -> #REF! | K11: =COUNTIFS(#REF!,A11,#REF!,"省公路事务中心",#REF!,"通过") -> #REF! | L11: =COUNTIFS(#REF!,A11,#REF!,"省公路事务中心",#REF!,"通过",#REF!,"是") -> #REF! | M11: =SUMIFS(#REF!,#REF!,A11,#REF!,"省公路事务中心",#REF!,"通过") -> #REF! | N11: =COUNTIFS(观景台!B:B,A11,观景台!#REF!,"省公路事务中心") -> #REF! | O11: =COUNTIFS(观景台!B:B,A11,观景台!#REF!,"省公路事务中心",观景台!#REF!,"通过") -> #REF! | P11: =COUNTIFS(观景台!B:B,A11,观景台!#REF!,"省公路事务中心",观景台!#REF!,"通过",观景台!#REF!,"是") -> #REF! | Q11: =SUMIFS(观景台!#REF!,观景台!B:B,A11,观景台!#REF!,"省公路事务中心",观景台!#REF!,"通过") -> #REF!
A12: 常德市 | B12: =F12+J12+N12 -> #REF! | C12: =G12+K12+O12 -> #REF! | D12: =H12+L12+P12 -> #REF! | E12: =I12+M12+Q12 -> #REF! | F12: =COUNTIFS(#REF!,A12,#REF!,"省公路事务中心") -> #REF! | G12: =COUNTIFS(#REF!,A12,#REF!,"省公路事务中心",#REF!,"通过") -> #REF! | H12: =COUNTIFS(#REF!,A12,#REF!,"省公路事务中心",#REF!,"通过",#REF!,"是") -> #REF! | I12: =SUMIFS(#REF!,#REF!,A12,#REF!,"省公路事务中心",#REF!,"通过") -> #REF! | J12: =COUNTIFS(#REF!,A12,#REF!,"省公路事务中心") -> #REF! | K12: =COUNTIFS(#REF!,A12,#REF!,"省公路事务中心",#REF!,"通过") -> #REF! | L12: =COUNTIFS(#REF!,A12,#REF!,"省公路事务中心",#REF!,"通过",#REF!,"是") -> #REF! | M12: =SUMIFS(#REF!,#REF!,A12,#REF!,"省公路事务中心",#REF!,"通过") -> #REF! | N12: =COUNTIFS(观景台!B:B,A12,观景台!#REF!,"省公路事务中心") -> #REF! | O12: =COUNTIFS(观景台!B:B,A12,观景台!#REF!,"省公路事务中心",观景台!#REF!,"通过") -> #REF! | P12: =COUNTIFS(观景台!B:B,A12,观景台!#REF!,"省公路事务中心",观景台!#REF!,"通过",观景台!#REF!,"是") -> #REF! | Q12: =SUMIFS(观景台!#REF!,观景台!B:B,A12,观景台!#REF!,"省公路事务中心",观景台!#REF!,"通过") -> #REF!
A13: 张家界市 | B13: =F13+J13+N13 -> #REF! | C13: =G13+K13+O13 -> #REF! | D13: =H13+L13+P13 -> #REF! | E13: =I13+M13+Q13 -> #REF! | F13: =COUNTIFS(#REF!,A13,#REF!,"省公路事务中心") -> #REF! | G13: =COUNTIFS(#REF!,A13,#REF!,"省公路事务中心",#REF!,"通过") -> #REF! | H13: =COUNTIFS(#REF!,A13,#REF!,"省公路事务中心",#REF!,"通过",#REF!,"是") -> #REF! | I13: =SUMIFS(#REF!,#REF!,A13,#REF!,"省公路事务中心",#REF!,"通过") -> #REF! | J13: =COUNTIFS(#REF!,A13,#REF!,"省公路事务中心") -> #REF! | K13: =COUNTIFS(#REF!,A13,#REF!,"省公路事务中心",#REF!,"通过") -> #REF! | L13: =COUNTIFS(#REF!,A13,#REF!,"省公路事务中心",#REF!,"通过",#REF!,"是") -> #REF! | M13: =SUMIFS(#REF!,#REF!,A13,#REF!,"省公路事务中心",#REF!,"通过") -> #REF! | N13: =COUNTIFS(观景台!B:B,A13,观景台!#REF!,"省公路事务中心") -> #REF! | O13: =COUNTIFS(观景台!B:B,A13,观景台!#REF!,"省公路事务中心",观景台!#REF!,"通过") -> #REF! | P13: =COUNTIFS(观景台!B:B,A13,观景台!#REF!,"省公路事务中心",观景台!#REF!,"通过",观景台!#REF!,"是") -> #REF! | Q13: =SUMIFS(观景台!#REF!,观景台!B:B,A13,观景台!#REF!,"省公路事务中心",观景台!#REF!,"通过") -> #REF!
A14: 益阳市 | B14: =F14+J14+N14 -> #REF! | C14: =G14+K14+O14 -> #REF! | D14: =H14+L14+P14 -> #REF! | E14: =I14+M14+Q14 -> #REF! | F14: =COUNTIFS(#REF!,A14,#REF!,"省公路事务中心") -> #REF! | G14: =COUNTIFS(#REF!,A14,#REF!,"省公路事务中心",#REF!,"通过") -> #REF! | H14: =COUNTIFS(#REF!,A14,#REF!,"省公路事务中心",#REF!,"通过",#REF!,"是") -> #REF! | I14: =SUMIFS(#REF!,#REF!,A14,#REF!,"省公路事务中心",#REF!,"通过") -> #REF! | J14: =COUNTIFS(#REF!,A14,#REF!,"省公路事务中心") -> #REF! | K14: =COUNTIFS(#REF!,A14,#REF!,"省公路事务中心",#REF!,"通过") -> #REF! | L14: =COUNTIFS(#REF!,A14,#REF!,"省公路事务中心",#REF!,"通过",#REF!,"是") -> #REF! | M14: =SUMIFS(#REF!,#REF!,A14,#REF!,"省公路事务中心",#REF!,"通过") -> #REF! | N14: =COUNTIFS(观景台!B:B,A14,观景台!#REF!,"省公路事务中心") -> #REF! | O14: =COUNTIFS(观景台!B:B,A14,观景台!#REF!,"省公路事务中心",观景台!#REF!,"通过") -> #REF! | P14: =COUNTIFS(观景台!B:B,A14,观景台!#REF!,"省公路事务中心",观景台!#REF!,"通过",观景台!#REF!,"是") -> #REF! | Q14: =SUMIFS(观景台!#REF!,观景台!B:B,A14,观景台!#REF!,"省公路事务中心",观景台!#REF!,"通过") -> #REF!
A15: 郴州市 | B15: =F15+J15+N15 -> #REF! | C15: =G15+K15+O15 -> #REF! | D15: =H15+L15+P15 -> #REF! | E15: =I15+M15+Q15 -> #REF! | F15: =COUNTIFS(#REF!,A15,#REF!,"省公路事务中心") -> #REF! | G15: =COUNTIFS(#REF!,A15,#REF!,"省公路事务中心",#REF!,"通过") -> #REF! | H15: =COUNTIFS(#REF!,A15,#REF!,"省公路事务中心",#REF!,"通过",#REF!,"是") -> #REF! | I15: =SUMIFS(#REF!,#REF!,A15,#REF!,"省公路事务中心",#REF!,"通过") -> #REF! | J15: =COUNTIFS(#REF!,A15,#REF!,"省公路事务中心") -> #REF! | K15: =COUNTIFS(#REF!,A15,#REF!,"省公路事务中心",#REF!,"通过") -> #REF! | L15: =COUNTIFS(#REF!,A15,#REF!,"省公路事务中心",#REF!,"通过",#REF!,"是") -> #REF! | M15: =SUMIFS(#REF!,#REF!,A15,#REF!,"省公路事务中心",#REF!,"通过") -> #REF! | N15: =COUNTIFS(观景台!B:B,A15,观景台!#REF!,"省公路事务中心") -> #REF! | O15: =COUNTIFS(观景台!B:B,A15,观景台!#REF!,"省公路事务中心",观景台!#REF!,"通过") -> #REF! | P15: =COUNTIFS(观景台!B:B,A15,观景台!#REF!,"省公路事务中心",观景台!#REF!,"通过",观景台!#REF!,"是") -> #REF! | Q15: =SUMIFS(观景台!#REF!,观景台!B:B,A15,观景台!#REF!,"省公路事务中心",观景台!#REF!,"通过") -> #REF!
A16: 永州市 | B16: =F16+J16+N16 -> #REF! | C16: =G16+K16+O16 -> #REF! | D16: =H16+L16+P16 -> #REF! | E16: =I16+M16+Q16 -> #REF! | F16: =COUNTIFS(#REF!,A16,#REF!,"省公路事务中心") -> #REF! | G16: =COUNTIFS(#REF!,A16,#REF!,"省公路事务中心",#REF!,"通过") -> #REF! | H16: =COUNTIFS(#REF!,A16,#REF!,"省公路事务中心",#REF!,"通过",#REF!,"是") -> #REF! | I16: =SUMIFS(#REF!,#REF!,A16,#REF!,"省公路事务中心",#REF!,"通过") -> #REF! | J16: =COUNTIFS(#REF!,A16,#REF!,"省公路事务中心") -> #REF! | K16: =COUNTIFS(#REF!,A16,#REF!,"省公路事务中心",#REF!,"通过") -> #REF! | L16: =COUNTIFS(#REF!,A16,#REF!,"省公路事务中心",#REF!,"通过",#REF!,"是") -> #REF! | M16: =SUMIFS(#REF!,#REF!,A16,#REF!,"省公路事务中心",#REF!,"通过") -> #REF! | N16: =COUNTIFS(观景台!B:B,A16,观景台!#REF!,"省公路事务中心") -> #REF! | O16: =COUNTIFS(观景台!B:B,A16,观景台!#REF!,"省公路事务中心",观景台!#REF!,"通过") -> #REF! | P16: =COUNTIFS(观景台!B:B,A16,观景台!#REF!,"省公路事务中心",观景台!#REF!,"通过",观景台!#REF!,"是") -> #REF! | Q16: =SUMIFS(观景台!#REF!,观景台!B:B,A16,观景台!#REF!,"省公路事务中心",观景台!#REF!,"通过") -> #REF!
A17: 怀化市 | B17: =F17+J17+N17 -> #REF! | C17: =G17+K17+O17 -> #REF! | D17: =H17+L17+P17 -> #REF! | E17: =I17+M17+Q17 -> #REF! | F17: =COUNTIFS(#REF!,A17,#REF!,"省公路事务中心") -> #REF! | G17: =COUNTIFS(#REF!,A17,#REF!,"省公路事务中心",#REF!,"通过") -> #REF! | H17: =COUNTIFS(#REF!,A17,#REF!,"省公路事务中心",#REF!,"通过",#REF!,"是") -> #REF! | I17: =SUMIFS(#REF!,#REF!,A17,#REF!,"省公路事务中心",#REF!,"通过") -> #REF! | J17: =COUNTIFS(#REF!,A17,#REF!,"省公路事务中心") -> #REF! | K17: =COUNTIFS(#REF!,A17,#REF!,"省公路事务中心",#REF!,"通过") -> #REF! | L17: =COUNTIFS(#REF!,A17,#REF!,"省公路事务中心",#REF!,"通过",#REF!,"是") -> #REF! | M17: =SUMIFS(#REF!,#REF!,A17,#REF!,"省公路事务中心",#REF!,"通过") -> #REF! | N17: =COUNTIFS(观景台!B:B,A17,观景台!#REF!,"省公路事务中心") -> #REF! | O17: =COUNTIFS(观景台!B:B,A17,观景台!#REF!,"省公路事务中心",观景台!#REF!,"通过") -> #REF! | P17: =COUNTIFS(观景台!B:B,A17,观景台!#REF!,"省公路事务中心",观景台!#REF!,"通过",观景台!#REF!,"是") -> #REF! | Q17: =SUMIFS(观景台!#REF!,观景台!B:B,A17,观景台!#REF!,"省公路事务中心",观景台!#REF!,"通过") -> #REF!
... A19: 湘西州 | B19: =F19+J19+N19 -> #REF! | C19: =G19+K19+O19 -> #REF! | D19: =H19+L19+P19 -> #REF! | E19: =I19+M19+Q19 -> #REF! | F19: =COUNTIFS(#REF!,A19,#REF!,"省公路事务中心") -> #REF! | G19: =COUNTIFS(#REF!,A19,#REF!,"省公路事务中心",#REF!,"通过") -> #REF! | H19: =COUNTIFS(#REF!,A19,#REF!,"省公路事务中心",#REF!,"通过",#REF!,"是") -> #REF! | I19: =SUMIFS(#REF!,#REF!,A19,#REF!,"省公路事务中心",#REF!,"通过") -> #REF! | J19: =COUNTIFS(#REF!,A19,#REF!,"省公路事务中心") -> #REF! | K19: =COUNTIFS(#REF!,A19,#REF!,"省公路事务中心",#REF!,"通过") -> #REF! | L19: =COUNTIFS(#REF!,A19,#REF!,"省公路事务中心",#REF!,"通过",#REF!,"是") -> #REF! | M19: =SUMIFS(#REF!,#REF!,A19,#REF!,"省公路事务中心",#REF!,"通过") -> #REF! | N19: =COUNTIFS(观景台!B:B,A19,观景台!#REF!,"省公路事务中心") -> #REF! | O19: =COUNTIFS(观景台!B:B,A19,观景台!#REF!,"省公路事务中心",观景台!#REF!,"通过") -> #REF! | P19: =COUNTIFS(观景台!B:B,A19,观景台!#REF!,"省公路事务中心",观景台!#REF!,"通过",观景台!#REF!,"是") -> #REF! | Q19: =SUMIFS(观景台!#REF!,观景台!B:B,A19,观景台!#REF!,"省公路事务中心",观景台!#REF!,"通过") -> #REF!

Sheet 省中心汇总表
A1: 附件8
A2: 2026年第四批普通国省道服务设施工程资金建议计划初审情况汇总表
A3: 市州 | B3: 规模（处） | R3: 补助资金（万元） | AH3: 备注
B4: 市州报送情况 | H4: 初审通过情况 | N4: 初审不通过情况 | R4: 市州报送情况 | X4: 初审通过情况 | AD4: 初审不通过情况
B5: 小计 | D5: 服务区 | E5: 养护站 | F5: 观景台 | H5: 小计 | J5: 服务区 | K5: 养护站 | L5: 观景台 | N5: 小计 | O5: 服务区 | P5: 养护站 | Q5: 观景台 | R5: 小计 | T5: 服务区 | U5: 养护站 | V5: 观景台 | X5: 小计 | Z5: 服务区 | AA5: 养护站 | AB5: 观景台 | AD5: 小计 | AE5: 服务区 | AF5: 养护站 | AG5: 观景台
B6: 申报项目 | C6: 扣回项目 | F6: 申报项目 | G6: 扣回项目 | H6: 申报项目 | I6: 扣回项目 | L6: 申报项目 | M6: 扣回项目 | R6: 申报项目 | S6: 扣回项目 | V6: 申报项目 | W6: 扣回项目 | X6: 申报项目 | Y6: 扣回项目 | AB6: 申报项目 | AC6: 扣回项目
A7: 合计 | B7: 6 | C7: 1 | D7: 2 | E7: 0 | F7: 4 | G7: 1 | H7: 5 | I7: 1 | J7: 2 | K7: 0 | L7: 3 | M7: 1 | N7: 1 | O7: 0 | P7: 0 | Q7: 1 | R7: 720 | S7: -30 | T7: 600 | U7: 0 | V7: 120 | W7: -30 | X7: 690 | Y7: -30 | Z7: 600 | AA7: 0 | AB7: 90 | AC7: -30 | AD7: 30 | AE7: 0 | AF7: 0 | AG7: 30
A8: 长沙市 | B8: 0 | C8: 0 | D8: 0 | F8: 0 | G8: 0 | H8: 0 | I8: 0 | J8: 0 | L8: 0 | M8: 0 | N8: 0 | O8: 0 | Q8: 0 | R8: 0 | S8: 0 | T8: 0 | U8: 0 | V8: 0 | W8: 0 | X8: 0 | Y8: 0 | Z8: 0 | AB8: 0 | AC8: 0 | AD8: 0 | AE8: 0 | AG8: 0
A9: 株洲市 | B9: 1 | C9: 0 | D9: 0 | F9: 1 | G9: 0 | H9: 1 | I9: 0 | J9: 0 | L9: 1 | M9: 0 | N9: 0 | O9: 0 | Q9: 0 | R9: 30 | S9: 0 | T9: 0 | U9: 0 | V9: 30 | W9: 0 | X9: 30 | Y9: 0 | Z9: 0 | AB9: 30 | AC9: 0 | AD9: 0 | AE9: 0 | AG9: 0
A10: 湘潭市 | B10: 0 | C10: 0 | D10: 0 | F10: 0 | G10: 0 | H10: 0 | I10: 0 | J10: 0 | L10: 0 | M10: 0 | N10: 0 | O10: 0 | Q10: 0 | R10: 0 | S10: 0 | T10: 0 | U10: 0 | V10: 0 | W10: 0 | X10: 0 | Y10: 0 | Z10: 0 | AB10: 0 | AC10: 0 | AD10: 0 | AE10: 0 | AG10: 0
A11: 衡阳市 | B11: 1 | C11: 0 | D11: 1 | F11: 0 | G11: 0 | H11: 1 | I11: 0 | J11: 1 | L11: 0 | M11: 0 | N11: 0 | O11: 0 | Q11: 0 | R11: 300 | S11: 0 | T11: 300 | U11: 0 | V11: 0 | W11: 0 | X11: 300 | Y11: 0 | Z11: 300 | AB11: 0 | AC11: 0 | AD11: 0 | AE11: 0 | AG11: 0
A12: 邵阳市 | B12: 0 | C12: 0 | D12: 0 | F12: 0 | G12: 0 | H12: 0 | I12: 0 | J12: 0 | L12: 0 | M12: 0 | N12: 0 | O12: 0 | Q12: 0 | R12: 0 | S12: 0 | T12: 0 | U12: 0 | V12: 0 | W12: 0 | X12: 0 | Y12: 0 | Z12: 0 | AB12: 0 | AC12: 0 | AD12: 0 | AE12: 0 | AG12: 0
A13: 岳阳市 | B13: 1 | C13: 0 | D13: 0 | F13: 1 | G13: 0 | H13: 0 | I13: 0 | J13: 0 | L13: 0 | M13: 0 | N13: 1 | O13: 0 | Q13: 1 | R13: 30 | S13: 0 | T13: 0 | U13: 0 | V13: 30 | W13: 0 | X13: 0 | Y13: 0 | Z13: 0 | AB13: 0 | AC13: 0 | AD13: 30 | AE13: 0 | AG13: 30
A14: 常德市 | B14: 0 | C14: 0 | D14: 0 | F14: 0 | G14: 0 | H14: 0 | I14: 0 | J14: 0 | L14: 0 | M14: 0 | N14: 0 | O14: 0 | Q14: 0 | R14: 0 | S14: 0 | T14: 0 | U14: 0 | V14: 0 | W14: 0 | X14: 0 | Y14: 0 | Z14: 0 | AB14: 0 | AC14: 0 | AD14: 0 | AE14: 0 | AG14: 0
A15: 张家界市 | B15: 1 | C15: 0 | D15: 1 | F15: 0 | G15: 0 | H15: 1 | I15: 0 | J15: 1 | L15: 0 | M15: 0 | N15: 0 | O15: 0 | Q15: 0 | R15: 300 | S15: 0 | T15: 300 | U15: 0 | V15: 0 | W15: 0 | X15: 300 | Y15: 0 | Z15: 300 | AB15: 0 | AC15: 0 | AD15: 0 | AE15: 0 | AG15: 0
A16: 益阳市 | B16: 0 | C16: 0 | D16: 0 | F16: 0 | G16: 0 | H16: 0 | I16: 0 | J16: 0 | L16: 0 | M16: 0 | N16: 0 | O16: 0 | Q16: 0 | R16: 0 | S16: 0 | T16: 0 | U16: 0 | V16: 0 | W16: 0 | X16: 0 | Y16: 0 | Z16: 0 | AB16: 0 | AC16: 0 | AD16: 0 | AE16: 0 | AG16: 0
A17: 郴州市 | B17: 0 | C17: 0 | D17: 0 | F17: 0 | G17: 0 | H17: 0 | I17: 0 | J17: 0 | L17: 0 | M17: 0 | N17: 0 | O17: 0 | Q17: 0 | R17: 0 | S17: 0 | T17: 0 | U17: 0 | V17: 0 | W17: 0 | X17: 0 | Y17: 0 | Z17: 0 | AB17: 0 | AC17: 0 | AD17: 0 | AE17: 0 | AG17: 0
A18: 永州市 | B18: 0 | C18: 0 | D18: 0 | F18: 0 | G18: 0 | H18: 0 | I18: 0 | J18: 0 | L18: 0 | M18: 0 | N18: 0 | O18: 0 | Q18: 0 | R18: 0 | S18: 0 | T18: 0 | U18: 0 | V18: 0 | W18: 0 | X18: 0 | Y18: 0 | Z18: 0 | AB18: 0 | AC18: 0 | AD18: 0 | AE18: 0 | AG18: 0
A19: 怀化市 | B19: 2 | C19: 1 | D19: 0 | F19: 2 | G19: 1 | H19: 2 | I19: 1 | J19: 0 | L19: 2 | M19: 1 | N19: 0 | O19: 0 | Q19: 0 | R19: 60 | S19: -30 | T19: 0 | U19: 0 | V19: 60 | W19: -30 | X19: 60 | Y19: -30 | Z19: 0 | AB19: 60 | AC19: -30 | AD19: 0 | AE19: 0 | AG19: 0
... A21: 湘西州 | B21: 0 | C21: 0 | D21: 0 | F21: 0 | G21: 0 | H21: 0 | I21: 0 | J21: 0 | L21: 0 | M21: 0 | N21: 0 | O21: 0 | Q21: 0 | R21: 0 | S21: 0 | T21: 0 | U21: 0 | V21: 0 | W21: 0 | X21: 0 | Y21: 0 | Z21: 0 | AB21: 0 | AC21: 0 | AD21: 0 | AE21: 0 | AG21: 0

Sheet 服务区
A1: 附件3-1
A2: 2026年普通国省道第三批服务区计划表
A3: 序号 | B3: 市州 | C3: 县区 | D3: 项目信息 | H3: 备注
D4: 服务区名称 | E4: 线路编码 | F4: 所在路线名称 | G4: 位置桩号
B5: 张家界市汇总 | D5: 1
A6: 1 | B6: 张家界市 | C6: 慈利县 | D6: 苗市服务区 | E6: G353 | F6: 宁德-贡山 | G6: 1381.626

Sheet 观景台
A1: 附件3-2
A2: 2026年普通国省道第三批观景台计划表
A3: 序号 | B3: 市州 | C3: 县区 | D3: 项目信息 | H3: 备注
D4: 项目名称 | E4: 所在路线编码 | F4: 所在路线名称 | G4: 位置桩号
B5: 怀化市 汇总 | D5: 1
A6: 1 | B6: 怀化市 | C6: 洪江市 | D6: 沙湾观景台 | E6: S249 | F6: 溆浦桥江-通道大高坪(省界) | G6: 127
