Workbook

Sheet 汇总表党委会
A1: 附件3
A2: 2026年第四批普通国省道大中修工程资金建议计划汇总表
A3: 市州 | B3: 规模（公里） | H3: 初审通过补助资金（万元） | N3: 备注
B4: 市州申报 | E4: 初审通过 | H4: 市州申报 | K4: 初审通过
B5: 小计 | C5: 申报项目 | D5: 调整项目 | E5: 小计 | F5: 申报项目 | G5: 调整项目 | H5: 小计 | I5: 申报项目 | J5: 调整项目 | K5: 小计 | L5: 申报项目 | M5: 调整项目
A6: 合计 | B6: 162.514 | C6: 127.525 | D6: 34.989 | E6: =SUM(E7:E20) -> #REF! | F6: =SUM(F7:F20) -> #REF! | G6: =SUM(G7:G20) -> #REF! | H6: 17833.881 | I6: 19362.956 | J6: -1529.0748 | K6: =SUM(K7:K20) -> #REF! | L6: =SUM(L7:L20) -> #REF! | M6: =SUM(M7:M20) -> #REF!
A7: 长沙市 | B7: 2.23 | C7: 1 | D7: 1.23 | E7: =F7+G7 -> #REF! | F7: =SUMIFS(明细表!L:L,明细表!D:D,A7,明细表!#REF!,"计划申报") -> #REF! | G7: =SUMIFS(明细表!L:L,明细表!D:D,A7,明细表!#REF!,"计划调整") -> #REF! | H7: -14.13 | I7: 103.95 | J7: -118.08 | K7: =L7+M7 -> #REF! | L7: =SUMIFS(明细表!#REF!,明细表!D:D,A7,明细表!#REF!,"计划申报") -> #REF! | M7: =SUMIFS(明细表!#REF!,明细表!D:D,A7,明细表!#REF!,"计划调整") -> #REF!
A8: 株洲市 | B8: 10.703 | C8: 10.703 | D8: 0 | E8: =F8+G8 -> #REF! | F8: =SUMIFS(明细表!L:L,明细表!D:D,A8,明细表!#REF!,"计划申报") -> #REF! | G8: =SUMIFS(明细表!L:L,明细表!D:D,A8,明细表!#REF!,"计划调整") -> #REF! | H8: 1918.602 | I8: 1918.602 | J8: 0 | K8: =L8+M8 -> #REF! | L8: =SUMIFS(明细表!#REF!,明细表!D:D,A8,明细表!#REF!,"计划申报") -> #REF! | M8: =SUMIFS(明细表!#REF!,明细表!D:D,A8,明细表!#REF!,"计划调整") -> #REF!
A9: 湘潭市 | B9: 5.263 | C9: 2.025 | D9: 3.238 | E9: =F9+G9 -> #REF! | F9: =SUMIFS(明细表!L:L,明细表!D:D,A9,明细表!#REF!,"计划申报") -> #REF! | G9: =SUMIFS(明细表!L:L,明细表!D:D,A9,明细表!#REF!,"计划调整") -> #REF! | H9: 552.0552 | I9: 486 | J9: 66.0552 | K9: =L9+M9 -> #REF! | L9: =SUMIFS(明细表!#REF!,明细表!D:D,A9,明细表!#REF!,"计划申报") -> #REF! | M9: =SUMIFS(明细表!#REF!,明细表!D:D,A9,明细表!#REF!,"计划调整") -> #REF!
A10: 衡阳市 | B10: 13.223 | C10: 13.223 | D10: 0 | E10: =F10+G10 -> #REF! | F10: =SUMIFS(明细表!L:L,明细表!D:D,A10,明细表!#REF!,"计划申报") -> #REF! | G10: =SUMIFS(明细表!L:L,明细表!D:D,A10,明细表!#REF!,"计划调整") -> #REF! | H10: 743.946 | I10: 743.946 | J10: 0 | K10: =L10+M10 -> #REF! | L10: =SUMIFS(明细表!#REF!,明细表!D:D,A10,明细表!#REF!,"计划申报") -> #REF! | M10: =SUMIFS(明细表!#REF!,明细表!D:D,A10,明细表!#REF!,"计划调整") -> #REF! | N10: 衡阳13.223公里为路况差新纳入项目
A11: 邵阳市 | B11: 4.83 | C11: 3.106 | D11: 1.724 | E11: =F11+G11 -> #REF! | F11: =SUMIFS(明细表!L:L,明细表!D:D,A11,明细表!#REF!,"计划申报") -> #REF! | G11: =SUMIFS(明细表!L:L,明细表!D:D,A11,明细表!#REF!,"计划调整") -> #REF! | H11: 534.486 | I11: 534.486 | J11: 0 | K11: =L11+M11 -> #REF! | L11: =SUMIFS(明细表!#REF!,明细表!D:D,A11,明细表!#REF!,"计划申报") -> #REF! | M11: =SUMIFS(明细表!#REF!,明细表!D:D,A11,明细表!#REF!,"计划调整") -> #REF!
A12: 岳阳市 | B12: 23.5 | C12: 23.5 | D12: 0 | E12: =F12+G12 -> #REF! | F12: =SUMIFS(明细表!L:L,明细表!D:D,A12,明细表!#REF!,"计划申报") -> #REF! | G12: =SUMIFS(明细表!L:L,明细表!D:D,A12,明细表!#REF!,"计划调整") -> #REF! | H12: 3324.384 | I12: 3324.384 | J12: 0 | K12: =L12+M12 -> #REF! | L12: =SUMIFS(明细表!#REF!,明细表!D:D,A12,明细表!#REF!,"计划申报") -> #REF! | M12: =SUMIFS(明细表!#REF!,明细表!D:D,A12,明细表!#REF!,"计划调整") -> #REF!
A13: 常德市 | B13: 8.65 | C13: 8.65 | D13: 0 | E13: =F13+G13 -> #REF! | F13: =SUMIFS(明细表!L:L,明细表!D:D,A13,明细表!#REF!,"计划申报") -> #REF! | G13: =SUMIFS(明细表!L:L,明细表!D:D,A13,明细表!#REF!,"计划调整") -> #REF! | H13: 1429.59 | I13: 1429.59 | J13: 0 | K13: =L13+M13 -> #REF! | L13: =SUMIFS(明细表!#REF!,明细表!D:D,A13,明细表!#REF!,"计划申报") -> #REF! | M13: =SUMIFS(明细表!#REF!,明细表!D:D,A13,明细表!#REF!,"计划调整") -> #REF! | N13: 常德对接会核定计划16.65公里，其中8公里因地方配套困难未申报
A14: 张家界市 | B14: 1 | C14: 1 | D14: 0 | E14: =F14+G14 -> #REF! | F14: =SUMIFS(明细表!L:L,明细表!D:D,A14,明细表!#REF!,"计划申报") -> #REF! | G14: =SUMIFS(明细表!L:L,明细表!D:D,A14,明细表!#REF!,"计划调整") -> #REF! | H14: 52.5 | I14: 52.5 | J14: 0 | K14: =L14+M14 -> #REF! | L14: =SUMIFS(明细表!#REF!,明细表!D:D,A14,明细表!#REF!,"计划申报") -> #REF! | M14: =SUMIFS(明细表!#REF!,明细表!D:D,A14,明细表!#REF!,"计划调整") -> #REF!
A15: 益阳市 | B15: 25.772 | C15: 14 | D15: 11.772 | E15: =F15+G15 -> #REF! | F15: =SUMIFS(明细表!L:L,明细表!D:D,A15,明细表!#REF!,"计划申报") -> #REF! | G15: =SUMIFS(明细表!L:L,明细表!D:D,A15,明细表!#REF!,"计划调整") -> #REF! | H15: 1068.0225 | I15: 1374 | J15: -305.9775 | K15: =L15+M15 -> #REF! | L15: =SUMIFS(明细表!#REF!,明细表!D:D,A15,明细表!#REF!,"计划申报") -> #REF! | M15: =SUMIFS(明细表!#REF!,明细表!D:D,A15,明细表!#REF!,"计划调整") -> #REF!
A16: 郴州市 | B16: 16.123 | C16: 16.123 | D16: 0 | E16: =F16+G16 -> #REF! | F16: =SUMIFS(明细表!L:L,明细表!D:D,A16,明细表!#REF!,"计划申报") -> #REF! | G16: =SUMIFS(明细表!L:L,明细表!D:D,A16,明细表!#REF!,"计划调整") -> #REF! | H16: 3687.0021 | I16: 3687.0021 | J16: 0 | K16: =L16+M16 -> #REF! | L16: =SUMIFS(明细表!#REF!,明细表!D:D,A16,明细表!#REF!,"计划申报") -> #REF! | M16: =SUMIFS(明细表!#REF!,明细表!D:D,A16,明细表!#REF!,"计划调整") -> #REF! | N16: 郴州对接会核定10.707公里，其中0.305公里因城管路段未申报
A17: 永州市 | B17: 13.162 | C17: 13.162 | D17: 0 | E17: =F17+G17 -> #REF! | F17: =SUMIFS(明细表!L:L,明细表!D:D,A17,明细表!#REF!,"计划申报") -> #REF! | G17: =SUMIFS(明细表!L:L,明细表!D:D,A17,明细表!#REF!,"计划调整") -> #REF! | H17: 2424.9892 | I17: 2424.9892 | J17: 0 | K17: =L17+M17 -> #REF! | L17: =SUMIFS(明细表!#REF!,明细表!D:D,A17,明细表!#REF!,"计划申报") -> #REF! | M17: =SUMIFS(明细表!#REF!,明细表!D:D,A17,明细表!#REF!,"计划调整") -> #REF!
A18: 怀化市 | B18: 15.639 | C18: 15.639 | D18: 0 | E18: =F18+G18 -> #REF! | F18: =SUMIFS(明细表!L:L,明细表!D:D,A18,明细表!#REF!,"计划申报") -> #REF! | G18: =SUMIFS(明细表!L:L,明细表!D:D,A18,明细表!#REF!,"计划调整") -> #REF! | H18: 2328.1744 | I18: 2328.1744 | J18: 0 | K18: =L18+M18 -> #REF! | L18: =SUMIFS(明细表!#REF!,明细表!D:D,A18,明细表!#REF!,"计划申报") -> #REF! | M18: =SUMIFS(明细表!#REF!,明细表!D:D,A18,明细表!#REF!,"计划调整") -> #REF!
A19: 娄底市 | B19: 22.419 | C19: 5.394 | D19: 17.025 | E19: =F19+G19 -> #REF! | F19: =SUMIFS(明细表!L:L,明细表!D:D,A19,明细表!#REF!,"计划申报") -> #REF! | G19: =SUMIFS(明细表!L:L,明细表!D:D,A19,明细表!#REF!,"计划调整") -> #REF! | H19: -215.7405 | I19: 955.332 | J19: -1171.0725 | K19: =L19+M19 -> #REF! | L19: =SUMIFS(明细表!#REF!,明细表!D:D,A19,明细表!#REF!,"计划申报") -> #REF! | M19: =SUMIFS(明细表!#REF!,明细表!D:D,A19,明细表!#REF!,"计划调整") -> #REF!
A20: 湘西州 | B20: 0 | C20: 0 | D20: 0 | E20: =F20+G20 -> #REF! | F20: =SUMIFS(明细表!L:L,明细表!D:D,A20,明细表!#REF!,"计划申报") -> #REF! | G20: =SUMIFS(明细表!L:L,明细表!D:D,A20,明细表!#REF!,"计划调整") -> #REF! | H20: 0 | I20: 0 | J20: 0 | K20: =L20+M20 -> #REF! | L20: =SUMIFS(明细表!#REF!,明细表!D:D,A20,明细表!#REF!,"计划申报") -> #REF! | M20: =SUMIFS(明细表!#REF!,明细表!D:D,A20,明细表!#REF!,"计划调整") -> #REF!

Sheet 汇总表（省中心）
A1: 附件3
A2: 2026年第四批普通国省道大中修工程资金建议计划汇总表
A3: 市州 | B3: 合计 | D3: 计划申报 | L3: 计划调整 | T3: 备注
D4: 合计 | F4: 大修 | H4: 中修 | J4: 预防性养护 | L4: 小计 | N4: 大修 | P4: 中修 | R4: 预防性养护
B5: 里程 （公里） | C5: 补助资金 （万元） | D5: 里程 （公里） | E5: 补助资金 （万元） | F5: 里程 （公里） | G5: 补助资金 （万元） | H5: 里程 （公里） | I5: 补助资金 （万元） | J5: 里程 （公里） | K5: 补助资金 （万元） | L5: 里程 （公里） | M5: 补助资金 （万元） | N5: 里程 （公里） | O5: 补助资金 （万元） | P5: 里程 （公里） | Q5: 补助资金 （万元） | R5: 里程 （公里） | S5: 补助资金 （万元） | W5: =D6-13.223 -> #REF!
A6: 合计 | B6: =SUM(B7:B20) -> #REF! | C6: =SUM(C7:C20) -> #REF! | D6: =SUM(D7:D20) -> #REF! | E6: =SUM(E7:E20) -> #REF! | F6: =SUM(F7:F20) -> #REF! | G6: =SUM(G7:G20) -> #REF! | H6: =SUM(H7:H20) -> #REF! | I6: =SUM(I7:I20) -> #REF! | ... S6: =SUM(S7:S20) -> #REF! | V6: =D6+8+0.305-13.223 -> #REF! | Y6: =E6+M6 -> #REF!
A7: 长沙市 | B7: =D7+L7 -> #REF! | C7: =E7+M7 -> #REF! | D7: =F7+H7+J7 -> #REF! | E7: =G7+I7+K7 -> #REF! | F7: =SUMIFS(明细表!L:L,明细表!D:D,A7,明细表!#REF!,"计划申报",明细表!#REF!,"大修") -> #REF! | G7: =SUMIFS(明细表!#REF!,明细表!D:D,A7,明细表!#REF!,"计划申报",明细表!#REF!,"大修") -> #REF! | H7: =SUMIFS(明细表!L:L,明细表!D:D,A7,明细表!#REF!,"计划申报",明细表!#REF!,"中修") -> #REF! | I7: =SUMIFS(明细表!#REF!,明细表!D:D,A7,明细表!#REF!,"计划申报",明细表!#REF!,"中修") -> #REF! | J7: =SUMIFS(明细表!L:L,明细表!D:D,A7,明细表!#REF!,"计划申报",明细表!#REF!,"预防性养护") -> #REF! | K7: =SUMIFS(明细表!#REF!,明细表!D:D,A7,明细表!#REF!,"计划申报",明细表!#REF!,"预防性养护") -> #REF! | L7: =N7+P7+R7 -> #REF! | M7: =O7+Q7+S7 -> #REF! | N7: =SUMIFS(明细表!L:L,明细表!D:D,A7,明细表!#REF!,"计划调整",明细表!#REF!,"大修") -> #REF! | O7: =SUMIFS(明细表!#REF!,明细表!D:D,A7,明细表!#REF!,"计划调整",明细表!#REF!,"大修") -> #REF! | P7: =SUMIFS(明细表!L:L,明细表!D:D,A7,明细表!#REF!,"计划调整",明细表!#REF!,"中修") -> #REF! | Q7: =SUMIFS(明细表!#REF!,明细表!D:D,A7,明细表!#REF!,"计划调整",明细表!#REF!,"中修") -> #REF! | R7: =SUMIFS(明细表!L:L,明细表!D:D,A7,明细表!#REF!,"计划调整",明细表!#REF!,"预防性养护") -> #REF! | S7: =SUMIFS(明细表!#REF!,明细表!D:D,A7,明细表!#REF!,"计划调整",明细表!#REF!,"预防性养护") -> #REF!
A8: 株洲市 | B8: =D8+L8 -> #REF! | C8: =E8+M8 -> #REF! | D8: =F8+H8+J8 -> #REF! | E8: =G8+I8+K8 -> #REF! | F8: =SUMIFS(明细表!L:L,明细表!D:D,A8,明细表!#REF!,"计划申报",明细表!#REF!,"大修") -> #REF! | G8: =SUMIFS(明细表!#REF!,明细表!D:D,A8,明细表!#REF!,"计划申报",明细表!#REF!,"大修") -> #REF! | H8: =SUMIFS(明细表!L:L,明细表!D:D,A8,明细表!#REF!,"计划申报",明细表!#REF!,"中修") -> #REF! | I8: =SUMIFS(明细表!#REF!,明细表!D:D,A8,明细表!#REF!,"计划申报",明细表!#REF!,"中修") -> #REF! | J8: =SUMIFS(明细表!L:L,明细表!D:D,A8,明细表!#REF!,"计划申报",明细表!#REF!,"预防性养护") -> #REF! | K8: =SUMIFS(明细表!#REF!,明细表!D:D,A8,明细表!#REF!,"计划申报",明细表!#REF!,"预防性养护") -> #REF! | L8: =N8+P8+R8 -> #REF! | M8: =O8+Q8+S8 -> #REF! | N8: =SUMIFS(明细表!L:L,明细表!D:D,A8,明细表!#REF!,"计划调整",明细表!#REF!,"大修") -> #REF! | O8: =SUMIFS(明细表!#REF!,明细表!D:D,A8,明细表!#REF!,"计划调整",明细表!#REF!,"大修") -> #REF! | P8: =SUMIFS(明细表!L:L,明细表!D:D,A8,明细表!#REF!,"计划调整",明细表!#REF!,"中修") -> #REF! | Q8: =SUMIFS(明细表!#REF!,明细表!D:D,A8,明细表!#REF!,"计划调整",明细表!#REF!,"中修") -> #REF! | R8: =SUMIFS(明细表!L:L,明细表!D:D,A8,明细表!#REF!,"计划调整",明细表!#REF!,"预防性养护") -> #REF! | S8: =SUMIFS(明细表!#REF!,明细表!D:D,A8,明细表!#REF!,"计划调整",明细表!#REF!,"预防性养护") -> #REF!
A9: 湘潭市 | B9: =D9+L9 -> #REF! | C9: =E9+M9 -> #REF! | D9: =F9+H9+J9 -> #REF! | E9: =G9+I9+K9 -> #REF! | F9: =SUMIFS(明细表!L:L,明细表!D:D,A9,明细表!#REF!,"计划申报",明细表!#REF!,"大修") -> #REF! | G9: =SUMIFS(明细表!#REF!,明细表!D:D,A9,明细表!#REF!,"计划申报",明细表!#REF!,"大修") -> #REF! | H9: =SUMIFS(明细表!L:L,明细表!D:D,A9,明细表!#REF!,"计划申报",明细表!#REF!,"中修") -> #REF! | I9: =SUMIFS(明细表!#REF!,明细表!D:D,A9,明细表!#REF!,"计划申报",明细表!#REF!,"中修") -> #REF! | J9: =SUMIFS(明细表!L:L,明细表!D:D,A9,明细表!#REF!,"计划申报",明细表!#REF!,"预防性养护") -> #REF! | K9: =SUMIFS(明细表!#REF!,明细表!D:D,A9,明细表!#REF!,"计划申报",明细表!#REF!,"预防性养护") -> #REF! | L9: =N9+P9+R9 -> #REF! | M9: =O9+Q9+S9 -> #REF! | N9: =SUMIFS(明细表!L:L,明细表!D:D,A9,明细表!#REF!,"计划调整",明细表!#REF!,"大修") -> #REF! | O9: =SUMIFS(明细表!#REF!,明细表!D:D,A9,明细表!#REF!,"计划调整",明细表!#REF!,"大修") -> #REF! | P9: =SUMIFS(明细表!L:L,明细表!D:D,A9,明细表!#REF!,"计划调整",明细表!#REF!,"中修") -> #REF! | Q9: =SUMIFS(明细表!#REF!,明细表!D:D,A9,明细表!#REF!,"计划调整",明细表!#REF!,"中修") -> #REF! | R9: =SUMIFS(明细表!L:L,明细表!D:D,A9,明细表!#REF!,"计划调整",明细表!#REF!,"预防性养护") -> #REF! | S9: =SUMIFS(明细表!#REF!,明细表!D:D,A9,明细表!#REF!,"计划调整",明细表!#REF!,"预防性养护") -> #REF!
A10: 衡阳市 | B10: =D10+L10 -> #REF! | C10: =E10+M10 -> #REF! | D10: =F10+H10+J10 -> #REF! | E10: =G10+I10+K10 -> #REF! | F10: =SUMIFS(明细表!L:L,明细表!D:D,A10,明细表!#REF!,"计划申报",明细表!#REF!,"大修") -> #REF! | G10: =SUMIFS(明细表!#REF!,明细表!D:D,A10,明细表!#REF!,"计划申报",明细表!#REF!,"大修") -> #REF! | H10: =SUMIFS(明细表!L:L,明细表!D:D,A10,明细表!#REF!,"计划申报",明细表!#REF!,"中修") -> #REF! | I10: =SUMIFS(明细表!#REF!,明细表!D:D,A10,明细表!#REF!,"计划申报",明细表!#REF!,"中修") -> #REF! | J10: =SUMIFS(明细表!L:L,明细表!D:D,A10,明细表!#REF!,"计划申报",明细表!#REF!,"预防性养护") -> #REF! | K10: =SUMIFS(明细表!#REF!,明细表!D:D,A10,明细表!#REF!,"计划申报",明细表!#REF!,"预防性养护") -> #REF! | L10: =N10+P10+R10 -> #REF! | M10: =O10+Q10+S10 -> #REF! | N10: =SUMIFS(明细表!L:L,明细表!D:D,A10,明细表!#REF!,"计划调整",明细表!#REF!,"大修") -> #REF! | O10: =SUMIFS(明细表!#REF!,明细表!D:D,A10,明细表!#REF!,"计划调整",明细表!#REF!,"大修") -> #REF! | P10: =SUMIFS(明细表!L:L,明细表!D:D,A10,明细表!#REF!,"计划调整",明细表!#REF!,"中修") -> #REF! | Q10: =SUMIFS(明细表!#REF!,明细表!D:D,A10,明细表!#REF!,"计划调整",明细表!#REF!,"中修") -> #REF! | R10: =SUMIFS(明细表!L:L,明细表!D:D,A10,明细表!#REF!,"计划调整",明细表!#REF!,"预防性养护") -> #REF! | S10: =SUMIFS(明细表!#REF!,明细表!D:D,A10,明细表!#REF!,"计划调整",明细表!#REF!,"预防性养护") -> #REF! | T10: 衡阳13.223公里为路况差新纳入项目
A11: 邵阳市 | B11: =D11+L11 -> #REF! | C11: =E11+M11 -> #REF! | D11: =F11+H11+J11 -> #REF! | E11: =G11+I11+K11 -> #REF! | F11: =SUMIFS(明细表!L:L,明细表!D:D,A11,明细表!#REF!,"计划申报",明细表!#REF!,"大修") -> #REF! | G11: =SUMIFS(明细表!#REF!,明细表!D:D,A11,明细表!#REF!,"计划申报",明细表!#REF!,"大修") -> #REF! | H11: =SUMIFS(明细表!L:L,明细表!D:D,A11,明细表!#REF!,"计划申报",明细表!#REF!,"中修") -> #REF! | I11: =SUMIFS(明细表!#REF!,明细表!D:D,A11,明细表!#REF!,"计划申报",明细表!#REF!,"中修") -> #REF! | J11: =SUMIFS(明细表!L:L,明细表!D:D,A11,明细表!#REF!,"计划申报",明细表!#REF!,"预防性养护") -> #REF! | K11: =SUMIFS(明细表!#REF!,明细表!D:D,A11,明细表!#REF!,"计划申报",明细表!#REF!,"预防性养护") -> #REF! | L11: =N11+P11+R11 -> #REF! | M11: =O11+Q11+S11 -> #REF! | N11: =SUMIFS(明细表!L:L,明细表!D:D,A11,明细表!#REF!,"计划调整",明细表!#REF!,"大修") -> #REF! | O11: =SUMIFS(明细表!#REF!,明细表!D:D,A11,明细表!#REF!,"计划调整",明细表!#REF!,"大修") -> #REF! | P11: =SUMIFS(明细表!L:L,明细表!D:D,A11,明细表!#REF!,"计划调整",明细表!#REF!,"中修") -> #REF! | Q11: =SUMIFS(明细表!#REF!,明细表!D:D,A11,明细表!#REF!,"计划调整",明细表!#REF!,"中修") -> #REF! | R11: =SUMIFS(明细表!L:L,明细表!D:D,A11,明细表!#REF!,"计划调整",明细表!#REF!,"预防性养护") -> #REF! | S11: =SUMIFS(明细表!#REF!,明细表!D:D,A11,明细表!#REF!,"计划调整",明细表!#REF!,"预防性养护") -> #REF!
A12: 岳阳市 | B12: =D12+L12 -> #REF! | C12: =E12+M12 -> #REF! | D12: =F12+H12+J12 -> #REF! | E12: =G12+I12+K12 -> #REF! | F12: =SUMIFS(明细表!L:L,明细表!D:D,A12,明细表!#REF!,"计划申报",明细表!#REF!,"大修") -> #REF! | G12: =SUMIFS(明细表!#REF!,明细表!D:D,A12,明细表!#REF!,"计划申报",明细表!#REF!,"大修") -> #REF! | H12: =SUMIFS(明细表!L:L,明细表!D:D,A12,明细表!#REF!,"计划申报",明细表!#REF!,"中修") -> #REF! | I12: =SUMIFS(明细表!#REF!,明细表!D:D,A12,明细表!#REF!,"计划申报",明细表!#REF!,"中修") -> #REF! | J12: =SUMIFS(明细表!L:L,明细表!D:D,A12,明细表!#REF!,"计划申报",明细表!#REF!,"预防性养护") -> #REF! | K12: =SUMIFS(明细表!#REF!,明细表!D:D,A12,明细表!#REF!,"计划申报",明细表!#REF!,"预防性养护") -> #REF! | L12: =N12+P12+R12 -> #REF! | M12: =O12+Q12+S12 -> #REF! | N12: =SUMIFS(明细表!L:L,明细表!D:D,A12,明细表!#REF!,"计划调整",明细表!#REF!,"大修") -> #REF! | O12: =SUMIFS(明细表!#REF!,明细表!D:D,A12,明细表!#REF!,"计划调整",明细表!#REF!,"大修") -> #REF! | P12: =SUMIFS(明细表!L:L,明细表!D:D,A12,明细表!#REF!,"计划调整",明细表!#REF!,"中修") -> #REF! | Q12: =SUMIFS(明细表!#REF!,明细表!D:D,A12,明细表!#REF!,"计划调整",明细表!#REF!,"中修") -> #REF! | R12: =SUMIFS(明细表!L:L,明细表!D:D,A12,明细表!#REF!,"计划调整",明细表!#REF!,"预防性养护") -> #REF! | S12: =SUMIFS(明细表!#REF!,明细表!D:D,A12,明细表!#REF!,"计划调整",明细表!#REF!,"预防性养护") -> #REF!
A13: 常德市 | B13: =D13+L13 -> #REF! | C13: =E13+M13 -> #REF! | D13: =F13+H13+J13 -> #REF! | E13: =G13+I13+K13 -> #REF! | F13: =SUMIFS(明细表!L:L,明细表!D:D,A13,明细表!#REF!,"计划申报",明细表!#REF!,"大修") -> #REF! | G13: =SUMIFS(明细表!#REF!,明细表!D:D,A13,明细表!#REF!,"计划申报",明细表!#REF!,"大修") -> #REF! | H13: =SUMIFS(明细表!L:L,明细表!D:D,A13,明细表!#REF!,"计划申报",明细表!#REF!,"中修") -> #REF! | I13: =SUMIFS(明细表!#REF!,明细表!D:D,A13,明细表!#REF!,"计划申报",明细表!#REF!,"中修") -> #REF! | J13: =SUMIFS(明细表!L:L,明细表!D:D,A13,明细表!#REF!,"计划申报",明细表!#REF!,"预防性养护") -> #REF! | K13: =SUMIFS(明细表!#REF!,明细表!D:D,A13,明细表!#REF!,"计划申报",明细表!#REF!,"预防性养护") -> #REF! | L13: =N13+P13+R13 -> #REF! | M13: =O13+Q13+S13 -> #REF! | N13: =SUMIFS(明细表!L:L,明细表!D:D,A13,明细表!#REF!,"计划调整",明细表!#REF!,"大修") -> #REF! | O13: =SUMIFS(明细表!#REF!,明细表!D:D,A13,明细表!#REF!,"计划调整",明细表!#REF!,"大修") -> #REF! | P13: =SUMIFS(明细表!L:L,明细表!D:D,A13,明细表!#REF!,"计划调整",明细表!#REF!,"中修") -> #REF! | Q13: =SUMIFS(明细表!#REF!,明细表!D:D,A13,明细表!#REF!,"计划调整",明细表!#REF!,"中修") -> #REF! | R13: =SUMIFS(明细表!L:L,明细表!D:D,A13,明细表!#REF!,"计划调整",明细表!#REF!,"预防性养护") -> #REF! | S13: =SUMIFS(明细表!#REF!,明细表!D:D,A13,明细表!#REF!,"计划调整",明细表!#REF!,"预防性养护") -> #REF! | T13: 常德对接会核定计划16.65公里，其中8公里因地方配套困难未申报 | U13: =16.65-D13 -> #REF!
A14: 张家界市 | B14: =D14+L14 -> #REF! | C14: =E14+M14 -> #REF! | D14: =F14+H14+J14 -> #REF! | E14: =G14+I14+K14 -> #REF! | F14: =SUMIFS(明细表!L:L,明细表!D:D,A14,明细表!#REF!,"计划申报",明细表!#REF!,"大修") -> #REF! | G14: =SUMIFS(明细表!#REF!,明细表!D:D,A14,明细表!#REF!,"计划申报",明细表!#REF!,"大修") -> #REF! | H14: =SUMIFS(明细表!L:L,明细表!D:D,A14,明细表!#REF!,"计划申报",明细表!#REF!,"中修") -> #REF! | I14: =SUMIFS(明细表!#REF!,明细表!D:D,A14,明细表!#REF!,"计划申报",明细表!#REF!,"中修") -> #REF! | J14: =SUMIFS(明细表!L:L,明细表!D:D,A14,明细表!#REF!,"计划申报",明细表!#REF!,"预防性养护") -> #REF! | K14: =SUMIFS(明细表!#REF!,明细表!D:D,A14,明细表!#REF!,"计划申报",明细表!#REF!,"预防性养护") -> #REF! | L14: =N14+P14+R14 -> #REF! | M14: =O14+Q14+S14 -> #REF! | N14: =SUMIFS(明细表!L:L,明细表!D:D,A14,明细表!#REF!,"计划调整",明细表!#REF!,"大修") -> #REF! | O14: =SUMIFS(明细表!#REF!,明细表!D:D,A14,明细表!#REF!,"计划调整",明细表!#REF!,"大修") -> #REF! | P14: =SUMIFS(明细表!L:L,明细表!D:D,A14,明细表!#REF!,"计划调整",明细表!#REF!,"中修") -> #REF! | Q14: =SUMIFS(明细表!#REF!,明细表!D:D,A14,明细表!#REF!,"计划调整",明细表!#REF!,"中修") -> #REF! | R14: =SUMIFS(明细表!L:L,明细表!D:D,A14,明细表!#REF!,"计划调整",明细表!#REF!,"预防性养护") -> #REF! | S14: =SUMIFS(明细表!#REF!,明细表!D:D,A14,明细表!#REF!,"计划调整",明细表!#REF!,"预防性养护") -> #REF!
A15: 益阳市 | B15: =D15+L15 -> #REF! | C15: =E15+M15 -> #REF! | D15: =F15+H15+J15 -> #REF! | E15: =G15+I15+K15 -> #REF! | F15: =SUMIFS(明细表!L:L,明细表!D:D,A15,明细表!#REF!,"计划申报",明细表!#REF!,"大修") -> #REF! | G15: =SUMIFS(明细表!#REF!,明细表!D:D,A15,明细表!#REF!,"计划申报",明细表!#REF!,"大修") -> #REF! | H15: =SUMIFS(明细表!L:L,明细表!D:D,A15,明细表!#REF!,"计划申报",明细表!#REF!,"中修") -> #REF! | I15: =SUMIFS(明细表!#REF!,明细表!D:D,A15,明细表!#REF!,"计划申报",明细表!#REF!,"中修") -> #REF! | J15: =SUMIFS(明细表!L:L,明细表!D:D,A15,明细表!#REF!,"计划申报",明细表!#REF!,"预防性养护") -> #REF! | K15: =SUMIFS(明细表!#REF!,明细表!D:D,A15,明细表!#REF!,"计划申报",明细表!#REF!,"预防性养护") -> #REF! | L15: =N15+P15+R15 -> #REF! | M15: =O15+Q15+S15 -> #REF! | N15: =SUMIFS(明细表!L:L,明细表!D:D,A15,明细表!#REF!,"计划调整",明细表!#REF!,"大修") -> #REF! | O15: =SUMIFS(明细表!#REF!,明细表!D:D,A15,明细表!#REF!,"计划调整",明细表!#REF!,"大修") -> #REF! | P15: =SUMIFS(明细表!L:L,明细表!D:D,A15,明细表!#REF!,"计划调整",明细表!#REF!,"中修") -> #REF! | Q15: =SUMIFS(明细表!#REF!,明细表!D:D,A15,明细表!#REF!,"计划调整",明细表!#REF!,"中修") -> #REF! | R15: =SUMIFS(明细表!L:L,明细表!D:D,A15,明细表!#REF!,"计划调整",明细表!#REF!,"预防性养护") -> #REF! | S15: =SUMIFS(明细表!#REF!,明细表!D:D,A15,明细表!#REF!,"计划调整",明细表!#REF!,"预防性养护") -> #REF!
A16: 郴州市 | B16: =D16+L16 -> #REF! | C16: =E16+M16 -> #REF! | D16: =F16+H16+J16 -> #REF! | E16: =G16+I16+K16 -> #REF! | F16: =SUMIFS(明细表!L:L,明细表!D:D,A16,明细表!#REF!,"计划申报",明细表!#REF!,"大修") -> #REF! | G16: =SUMIFS(明细表!#REF!,明细表!D:D,A16,明细表!#REF!,"计划申报",明细表!#REF!,"大修") -> #REF! | H16: =SUMIFS(明细表!L:L,明细表!D:D,A16,明细表!#REF!,"计划申报",明细表!#REF!,"中修") -> #REF! | I16: =SUMIFS(明细表!#REF!,明细表!D:D,A16,明细表!#REF!,"计划申报",明细表!#REF!,"中修") -> #REF! | J16: =SUMIFS(明细表!L:L,明细表!D:D,A16,明细表!#REF!,"计划申报",明细表!#REF!,"预防性养护") -> #REF! | K16: =SUMIFS(明细表!#REF!,明细表!D:D,A16,明细表!#REF!,"计划申报",明细表!#REF!,"预防性养护") -> #REF! | L16: =N16+P16+R16 -> #REF! | M16: =O16+Q16+S16 -> #REF! | N16: =SUMIFS(明细表!L:L,明细表!D:D,A16,明细表!#REF!,"计划调整",明细表!#REF!,"大修") -> #REF! | O16: =SUMIFS(明细表!#REF!,明细表!D:D,A16,明细表!#REF!,"计划调整",明细表!#REF!,"大修") -> #REF! | P16: =SUMIFS(明细表!L:L,明细表!D:D,A16,明细表!#REF!,"计划调整",明细表!#REF!,"中修") -> #REF! | Q16: =SUMIFS(明细表!#REF!,明细表!D:D,A16,明细表!#REF!,"计划调整",明细表!#REF!,"中修") -> #REF! | R16: =SUMIFS(明细表!L:L,明细表!D:D,A16,明细表!#REF!,"计划调整",明细表!#REF!,"预防性养护") -> #REF! | S16: =SUMIFS(明细表!#REF!,明细表!D:D,A16,明细表!#REF!,"计划调整",明细表!#REF!,"预防性养护") -> #REF! | T16: 郴州对接会核定10.707公里，其中0.305公里因城管路段未申报
A17: 永州市 | B17: =D17+L17 -> #REF! | C17: =E17+M17 -> #REF! | D17: =F17+H17+J17 -> #REF! | E17: =G17+I17+K17 -> #REF! | F17: =SUMIFS(明细表!L:L,明细表!D:D,A17,明细表!#REF!,"计划申报",明细表!#REF!,"大修") -> #REF! | G17: =SUMIFS(明细表!#REF!,明细表!D:D,A17,明细表!#REF!,"计划申报",明细表!#REF!,"大修") -> #REF! | H17: =SUMIFS(明细表!L:L,明细表!D:D,A17,明细表!#REF!,"计划申报",明细表!#REF!,"中修") -> #REF! | I17: =SUMIFS(明细表!#REF!,明细表!D:D,A17,明细表!#REF!,"计划申报",明细表!#REF!,"中修") -> #REF! | J17: =SUMIFS(明细表!L:L,明细表!D:D,A17,明细表!#REF!,"计划申报",明细表!#REF!,"预防性养护") -> #REF! | K17: =SUMIFS(明细表!#REF!,明细表!D:D,A17,明细表!#REF!,"计划申报",明细表!#REF!,"预防性养护") -> #REF! | L17: =N17+P17+R17 -> #REF! | M17: =O17+Q17+S17 -> #REF! | N17: =SUMIFS(明细表!L:L,明细表!D:D,A17,明细表!#REF!,"计划调整",明细表!#REF!,"大修") -> #REF! | O17: =SUMIFS(明细表!#REF!,明细表!D:D,A17,明细表!#REF!,"计划调整",明细表!#REF!,"大修") -> #REF! | P17: =SUMIFS(明细表!L:L,明细表!D:D,A17,明细表!#REF!,"计划调整",明细表!#REF!,"中修") -> #REF! | Q17: =SUMIFS(明细表!#REF!,明细表!D:D,A17,明细表!#REF!,"计划调整",明细表!#REF!,"中修") -> #REF! | R17: =SUMIFS(明细表!L:L,明细表!D:D,A17,明细表!#REF!,"计划调整",明细表!#REF!,"预防性养护") -> #REF! | S17: =SUMIFS(明细表!#REF!,明细表!D:D,A17,明细表!#REF!,"计划调整",明细表!#REF!,"预防性养护") -> #REF!
A18: 怀化市 | B18: =D18+L18 -> #REF! | C18: =E18+M18 -> #REF! | D18: =F18+H18+J18 -> #REF! | E18: =G18+I18+K18 -> #REF! | F18: =SUMIFS(明细表!L:L,明细表!D:D,A18,明细表!#REF!,"计划申报",明细表!#REF!,"大修") -> #REF! | G18: =SUMIFS(明细表!#REF!,明细表!D:D,A18,明细表!#REF!,"计划申报",明细表!#REF!,"大修") -> #REF! | H18: =SUMIFS(明细表!L:L,明细表!D:D,A18,明细表!#REF!,"计划申报",明细表!#REF!,"中修") -> #REF! | I18: =SUMIFS(明细表!#REF!,明细表!D:D,A18,明细表!#REF!,"计划申报",明细表!#REF!,"中修") -> #REF! | J18: =SUMIFS(明细表!L:L,明细表!D:D,A18,明细表!#REF!,"计划申报",明细表!#REF!,"预防性养护") -> #REF! | K18: =SUMIFS(明细表!#REF!,明细表!D:D,A18,明细表!#REF!,"计划申报",明细表!#REF!,"预防性养护") -> #REF! | L18: =N18+P18+R18 -> #REF! | M18: =O18+Q18+S18 -> #REF! | N18: =SUMIFS(明细表!L:L,明细表!D:D,A18,明细表!#REF!,"计划调整",明细表!#REF!,"大修") -> #REF! | O18: =SUMIFS(明细表!#REF!,明细表!D:D,A18,明细表!#REF!,"计划调整",明细表!#REF!,"大修") -> #REF! | P18: =SUMIFS(明细表!L:L,明细表!D:D,A18,明细表!#REF!,"计划调整",明细表!#REF!,"中修") -> #REF! | Q18: =SUMIFS(明细表!#REF!,明细表!D:D,A18,明细表!#REF!,"计划调整",明细表!#REF!,"中修") -> #REF! | R18: =SUMIFS(明细表!L:L,明细表!D:D,A18,明细表!#REF!,"计划调整",明细表!#REF!,"预防性养护") -> #REF! | S18: =SUMIFS(明细表!#REF!,明细表!D:D,A18,明细表!#REF!,"计划调整",明细表!#REF!,"预防性养护") -> #REF!
A19: 娄底市 | B19: =D19+L19 -> #REF! | C19: =E19+M19 -> #REF! | D19: =F19+H19+J19 -> #REF! | E19: =G19+I19+K19 -> #REF! | F19: =SUMIFS(明细表!L:L,明细表!D:D,A19,明细表!#REF!,"计划申报",明细表!#REF!,"大修") -> #REF! | G19: =SUMIFS(明细表!#REF!,明细表!D:D,A19,明细表!#REF!,"计划申报",明细表!#REF!,"大修") -> #REF! | H19: =SUMIFS(明细表!L:L,明细表!D:D,A19,明细表!#REF!,"计划申报",明细表!#REF!,"中修") -> #REF! | I19: =SUMIFS(明细表!#REF!,明细表!D:D,A19,明细表!#REF!,"计划申报",明细表!#REF!,"中修") -> #REF! | J19: =SUMIFS(明细表!L:L,明细表!D:D,A19,明细表!#REF!,"计划申报",明细表!#REF!,"预防性养护") -> #REF! | K19: =SUMIFS(明细表!#REF!,明细表!D:D,A19,明细表!#REF!,"计划申报",明细表!#REF!,"预防性养护") -> #REF! | L19: =N19+P19+R19 -> #REF! | M19: =O19+Q19+S19 -> #REF! | N19: =SUMIFS(明细表!L:L,明细表!D:D,A19,明细表!#REF!,"计划调整",明细表!#REF!,"大修") -> #REF! | O19: =SUMIFS(明细表!#REF!,明细表!D:D,A19,明细表!#REF!,"计划调整",明细表!#REF!,"大修") -> #REF! | P19: =SUMIFS(明细表!L:L,明细表!D:D,A19,明细表!#REF!,"计划调整",明细表!#REF!,"中修") -> #REF! | Q19: =SUMIFS(明细表!#REF!,明细表!D:D,A19,明细表!#REF!,"计划调整",明细表!#REF!,"中修") -> #REF! | R19: =SUMIFS(明细表!L:L,明细表!D:D,A19,明细表!#REF!,"计划调整",明细表!#REF!,"预防性养护") -> #REF! | S19: =SUMIFS(明细表!#REF!,明细表!D:D,A19,明细表!#REF!,"计划调整",明细表!#REF!,"预防性养护") -> #REF!
A20: 湘西州 | B20: =D20+L20 -> #REF! | C20: =E20+M20 -> #REF! | D20: =F20+H20+J20 -> #REF! | E20: =G20+I20+K20 -> #REF! | F20: =SUMIFS(明细表!L:L,明细表!D:D,A20,明细表!#REF!,"计划申报",明细表!#REF!,"大修") -> #REF! | G20: =SUMIFS(明细表!#REF!,明细表!D:D,A20,明细表!#REF!,"计划申报",明细表!#REF!,"大修") -> #REF! | H20: =SUMIFS(明细表!L:L,明细表!D:D,A20,明细表!#REF!,"计划申报",明细表!#REF!,"中修") -> #REF! | I20: =SUMIFS(明细表!#REF!,明细表!D:D,A20,明细表!#REF!,"计划申报",明细表!#REF!,"中修") -> #REF! | J20: =SUMIFS(明细表!L:L,明细表!D:D,A20,明细表!#REF!,"计划申报",明细表!#REF!,"预防性养护") -> #REF! | K20: =SUMIFS(明细表!#REF!,明细表!D:D,A20,明细表!#REF!,"计划申报",明细表!#REF!,"预防性养护") -> #REF! | L20: =N20+P20+R20 -> #REF! | M20: =O20+Q20+S20 -> #REF! | N20: =SUMIFS(明细表!L:L,明细表!D:D,A20,明细表!#REF!,"计划调整",明细表!#REF!,"大修") -> #REF! | O20: =SUMIFS(明细表!#REF!,明细表!D:D,A20,明细表!#REF!,"计划调整",明细表!#REF!,"大修") -> #REF! | P20: =SUMIFS(明细表!L:L,明细表!D:D,A20,明细表!#REF!,"计划调整",明细表!#REF!,"中修") -> #REF! | Q20: =SUMIFS(明细表!#REF!,明细表!D:D,A20,明细表!#REF!,"计划调整",明细表!#REF!,"中修") -> #REF! | R20: =SUMIFS(明细表!L:L,明细表!D:D,A20,明细表!#REF!,"计划调整",明细表!#REF!,"预防性养护") -> #REF! | S20: =SUMIFS(明细表!#REF!,明细表!D:D,A20,明细表!#REF!,"计划调整",明细表!#REF!,"预防性养护") -> #REF!

Sheet 明细表
C1: 附件1
C2: 2026年第四批省养国省道大中修计划表
C3: 序号 | D3: 市州 | E3: 县（市、区） | F3: 实地埋设桩号 | I3: 12505km线路情况 | L3: 实施里程（公里） | M3: 技术等级 | N3: 原路面宽度（m） | O3: 原路面结构 | P3: 实施路面情况 | W3: 预防性养护措施
F4: 线路编号 | G4: 起点桩号 | H4: 终点桩号 | I4: 线路编号 | J4: 起点桩号 | K4: 终点桩号 | P4: 路面宽度（m） | Q4: 路面结构最低要求
Q5: 实施就地冷再生层厚度（cm） | R5: 旧水泥路面处治方案 | S5: 基层结构 | T5: 基层厚度（cm） | U5: 面层结构 | V5: 面层厚度（cm）
D6: 全省汇总 | L6: =L7+L11+L23+L29+L38+L45+L61+L71+L74+L91+L108+L124+L143 -> 126.525
D7: 长沙市 汇总 | L7: =SUBTOTAL(9,L9:L10) -> 1
D8: 计划申报 汇总 | L8: =SUBTOTAL(9,L9:L10) -> 1
A9: 计划申报 | B9: 中修 | C9: 1 | D9: 长沙市 | E9: 浏阳市 | F9: G106 | G9: 1696 | H9: 1696.05 | I9: G106 | J9: 1716.969 | K9: =J9+L9 -> 1717.019 | L9: =H9-G9 -> 0.05 | M9: 一级 | N9: 15 | O9: 沥青混凝土 | P9: 15 | R9: 旧路病害处治+铣刨4cm沥青砼 | U9: 改性沥青砼 | V9: 4
A10: 计划申报 | B10: 中修 | C10: 2 | D10: 长沙市 | E10: 浏阳市 | F10: G106 | G10: 1696.05 | H10: 1697 | I10: G106 | J10: 1717.019 | K10: 1717.969 | L10: =H10-G10 -> 0.95 | M10: 一级 | N10: 15 | O10: 沥青混凝土 | P10: 15 | R10: 旧路病害处治+铣刨4cm沥青砼 | U10: 改性沥青砼 | V10: 4
D11: 株洲市 汇总 | L11: =SUBTOTAL(9,L13:L22) -> 10.703
D12: 计划申报 汇总 | L12: =SUBTOTAL(9,L13:L22) -> 10.703
A13: 计划申报 | B13: 中修 | C13: 3 | D13: 株洲市 | E13: 醴陵市 | F13: G106 | G13: 1749.797 | H13: 1751 | I13: G106 | J13: 1776 | K13: 1777.203 | L13: =H13-G13 -> 1.203 | M13: 二级 | N13: 12 | O13: 沥青混凝土 | P13: 12 | R13: 旧路病害处治+铣刨4cm沥青砼 | U13: 改性沥青砼 | V13: 4
A14: 计划申报 | B14: 中修 | C14: 4 | D14: 株洲市 | E14: 醴陵市 | F14: G106 | G14: 1766 | H14: 1767 | I14: G106 | J14: 1782.203 | K14: 1783.203 | L14: =H14-G14 -> 1 | M14: 二级 | N14: 12 | O14: 沥青混凝土 | P14: 12 | R14: 旧路病害处治+铣刨4cm沥青砼 | U14: 改性沥青砼 | V14: 4
A15: 计划申报 | B15: 大修 | C15: 5 | D15: 株洲市 | E15: 醴陵市 | F15: G106 | G15: 1770 | H15: 1771 | I15: G106 | J15: 1795.445 | K15: 1796.445 | L15: =H15-G15 -> 1 | M15: 二级 | N15: 12 | O15: 沥青混凝土 | P15: 12 | R15: 旧路病害处治后加铺 | S15: 水稳 | T15: 30 | U15: 改性沥青砼 | V15: 9
A16: 计划申报 | B16: 大修 | C16: 6 | D16: 株洲市 | E16: 醴陵市 | F16: G106 | G16: 1771 | H16: 1772 | I16: G106 | J16: 1796.445 | K16: 1797.445 | L16: =H16-G16 -> 1 | M16: 二级 | N16: 12 | O16: 沥青混凝土 | P16: 12 | R16: 旧路病害处治后加铺 | S16: 水稳 | T16: 30 | U16: 改性沥青砼 | V16: 9
A17: 计划申报 | B17: 大修 | C17: 7 | D17: 株洲市 | E17: 醴陵市 | F17: G106 | G17: 1772 | H17: 1773 | I17: G106 | J17: 1797.445 | K17: 1798.445 | L17: =H17-G17 -> 1 | M17: 二级 | N17: 12 | O17: 沥青混凝土 | P17: 12 | R17: 旧路病害处治后加铺 | S17: 水稳 | T17: 30 | U17: 改性沥青砼 | V17: 9
A18: 计划申报 | B18: 大修 | C18: 8 | D18: 株洲市 | E18: 醴陵市 | F18: G106 | G18: 1773 | H18: 1774 | I18: G106 | J18: 1798.445 | K18: 1799.445 | L18: =H18-G18 -> 1 | M18: 二级 | N18: 12 | O18: 沥青混凝土 | P18: 12 | R18: 旧路病害处治后加铺 | S18: 水稳 | T18: 30 | U18: 改性沥青砼 | V18: 9
A19: 计划申报 | B19: 大修 | C19: 9 | D19: 株洲市 | E19: 攸县 | F19: G106 | G19: 1785 | H19: 1786 | I19: G106 | J19: 1811.235 | K19: 1812.235 | L19: =H19-G19 -> 1 | M19: 二级 | N19: 12 | O19: 沥青混凝土 | P19: 12 | R19: 旧路病害处治后加铺 | S19: 水稳 | T19: 30 | U19: 改性沥青砼 | V19: 9
A20: 计划申报 | B20: 大修 | C20: 10 | D20: 株洲市 | E20: 攸县 | F20: G106 | G20: 1795 | H20: 1796.5 | I20: G106 | J20: 1821.235 | K20: 1822.735 | L20: =H20-G20 -> 1.5 | M20: 二级 | N20: 12 | O20: 沥青混凝土 | P20: 12 | R20: 旧路病害处治后加铺 | S20: 水稳 | T20: 30 | U20: 改性沥青砼 | V20: 9
A21: 计划申报 | B21: 大修 | C21: 11 | D21: 株洲市 | E21: 茶陵县 | F21: G322 | G21: 1101 | H21: 1102 | I21: S320 | J21: 17.588 | K21: 18.588 | L21: =H21-G21 -> 1 | M21: 二级 | N21: 9 | O21: 沥青混凝土 | P21: 9 | R21: 旧路病害处治后加铺 | S21: 水稳 | T21: 30 | U21: 改性沥青砼 | V21: 9
A22: 计划申报 | B22: 中修 | C22: 12 | D22: 株洲市 | E22: 茶陵县 | F22: G322 | G22: 1113 | H22: 1114 | I22: S320 | J22: 29.588 | K22: 30.588 | L22: =H22-G22 -> 1 | M22: 二级 | N22: 9 | O22: 沥青混凝土 | P22: 9 | R22: 旧路病害处治+铣刨4cm沥青砼 | U22: 改性沥青砼 | V22: 4
D23: 湘潭市 汇总 | L23: =SUBTOTAL(9,L27:L28) -> 2.025
D24: 计划调整 汇总 | L24: =SUBTOTAL(9,L25:L26) -> 3.238
A25: 计划调整 | B25: 中修 | D25: 湘潭市 | E25: 湘潭县 | F25: G107 | G25: 1797 | H25: 1798 | I25: G107 | J25: 1703.672 | K25: 1704.672 | L25: =H25-G25 -> 1 | M25: 二级 | N25: 12 | O25: 沥青混凝土 | P25: 12 | R25: 旧路病害处治+铣刨4cm沥青砼 | U25: 改性沥青砼 | V25: 4
A26: 计划调整 | B26: 中修 | D26: 湘潭市 | E26: 湘潭县 | F26: G107 | G26: 1806 | H26: 1808.238 | I26: G107 | J26: 1712.672 | K26: 1714.91 | L26: =H26-G26 -> 2.238 | M26: 二级 | N26: 12 | O26: 沥青混凝土 | P26: 12 | R26: 旧路病害处治+铣刨4cm沥青砼 | U26: 改性沥青砼 | V26: 4
D27: 计划申报 汇总 | L27: =SUBTOTAL(9,L28) -> 2.025
A28: 计划申报 | B28: 大修 | C28: 13 | D28: 湘潭市 | E28: 湘乡市 | F28: G240 | G28: 1781.988 | H28: 1784.013 | I28: A000 | J28: 0 | K28: 0 | L28: =H28-G28 -> 2.025 | M28: 一级 | N28: 32 | O28: 水泥混凝土 | P28: 24 | U28: 改性沥青砼 | V28: 8
D29: 衡阳市 汇总 | L29: =SUBTOTAL(9,L31:L37) -> 13.223
D30: 计划申报 汇总 | L30: =SUBTOTAL(9,L31:L37) -> 13.223
A31: 计划申报 | B31: 中修 | C31: 14 | D31: 衡阳市 | E31: 衡山县 | F31: G240 | G31: 1870.002 | H31: 1872.627 | I31: S314 | J31: 22.845 | K31: 20.22 | L31: =H31-G31 -> 2.625 | M31: 一级 | N31: 40 | O31: 沥青混凝土 | P31: 7.5 | R31: 旧路病害处治后加铺 | U31: 改性沥青砼 | V31: 4
A32: 计划申报 | B32: 中修 | C32: 15 | D32: 衡阳市 | E32: 衡东县 | F32: G240 | G32: 1876.85 | H32: 1881 | I32: S314 | J32: 15.218 | K32: 11.068 | L32: =H32-G32 -> 4.15 | M32: 二级 | N32: 12 | O32: 沥青混凝土 | P32: 12 | R32: 旧路病害处治后加铺 | U32: 改性沥青砼 | V32: 4
A33: 计划申报 | B33: 中修 | C33: 16 | D33: 衡阳市 | E33: 衡东县 | F33: G240 | G33: 1883 | H33: 1885 | I33: S314 | J33: 9.068 | K33: 7.068 | L33: =H33-G33 -> 2 | M33: 二级 | N33: 12 | O33: 沥青混凝土 | P33: 12 | R33: 旧路病害处治后加铺 | U33: 改性沥青砼 | V33: 4
A34: 计划申报 | B34: 中修 | C34: 17 | D34: 衡阳市 | E34: 祁东县 | F34: G322 | G34: 1337 | H34: 1337.157 | I34: G322 | J34: 52.795 | K34: 52.952 | L34: =H34-G34 -> 0.157 | M34: 二级 | N34: 15 | O34: 沥青混凝土 | P34: 7.5 | R34: 旧路病害处治后加铺 | U34: 改性沥青砼 | V34: 4
A35: 计划申报 | B35: 中修 | C35: 18 | D35: 衡阳市 | E35: 祁东县 | F35: G322 | G35: 1337.157 | H35: 1338 | I35: G322 | J35: 52.952 | K35: 53.795 | L35: =H35-G35 -> 0.843 | M35: 二级 | N35: 20 | O35: 沥青混凝土 | P35: 7.5 | R35: 旧路病害处治后加铺 | U35: 改性沥青砼 | V35: 4
A36: 计划申报 | B36: 中修 | C36: 19 | D36: 衡阳市 | E36: 祁东县 | F36: G322 | G36: 1342 | H36: 1342.568 | I36: G322 | J36: 57.795 | K36: 58.363 | L36: =H36-G36 -> 0.568 | M36: 二级 | N36: 20 | O36: 沥青混凝土 | P36: 7.5 | R36: 旧路病害处治后加铺 | U36: 改性沥青砼 | V36: 4
A37: 计划申报 | B37: 中修 | C37: 20 | D37: 衡阳市 | E37: 祁东县 | F37: G322 | G37: 1342.568 | H37: 1345.448 | I37: G322 | J37: 58.363 | K37: 61.243 | L37: =H37-G37 -> 2.88 | M37: 二级 | N37: 30 | O37: 沥青混凝土 | P37: 7.5 | R37: 旧路病害处治后加铺 | U37: 改性沥青砼 | V37: 4
D38: 邵阳市 汇总 | L38: =SUBTOTAL(9,L41:L44) -> 3.106
D39: 计划调整 汇总 | L39: =SUBTOTAL(9,L40) -> 1.724
A40: 计划调整 | B40: 大修 | D40: 邵阳市 | E40: 绥宁县 | F40: S248 | G40: 52.113 | H40: 53.837 | I40: S348 | J40: 52.113 | K40: 53.837 | L40: =H40-G40 -> 1.724 | M40: 二级 | N40: 12 | O40: 水泥混凝土 | P40: 12 | R40: 旧路病害处治+多锤头碎石化后加铺 | S40: ATB | T40: 10 | U40: 改性沥青砼 | V40: 5
...

Sheet 明细表 (颜色标注)
A1: 附件2
A2: 2026年第四批普通国道大中修资金计划明细表
A3: 序号 | B3: 市州 | C3: 县（市、区） | D3: 实地埋设桩号 | G3: 12505km线路情况 | J3: 实施里程（公里） | K3: 坐标 | O3: 路况检测情况 | P3: 技术等级 | Q3: 原路面宽度（m） | R3: 原路面结构 | S3: 计划实施情况 | V3: 实施路面情况 | AF3: 市州申报部省补助资金资金（万元） | AG3: 部省补助资金资金（万元） | AH3: 大修或建成年度 | AI3: 大修折算系数 | AJ3: 中修年度 | AK3: 中修折算系数 | AL3: 市州备注 | AM3: 组成类型 | AN3: 组成类型（细分） | AO3: 备注
D4: 线路编号 | E4: 起点桩号 | F4: 终点桩号 | G4: 线路编号 | H4: 起点桩号 | I4: 终点桩号 | K4: 起点 | M4: 终点 | V4: 路面宽度（m）双控取低值 | W4: 市州申报路面宽度（m） | X4: 路面结构最低要求 | AD4: 预防性养护措施 | AE4: 标准单价（元/m2） | AP4: 报送状态
K5: 经度 | L5: 纬度 | M5: 经度 | N5: 纬度 | S5: 计划类型 | T5: 工程分类 | U5: 处置方案类型 | X5: 实施就地冷再生层厚度（cm） | Y5: 旧水泥路面处治方案 | Z5: 基层结构 | AA5: 基层厚度（cm） | AB5: 面层结构 | AC5: 面层厚度（cm） | AQ5: 是否已下过计划（10年内大修/5年内中修） | AR5: 年报大修或改建年度 | AT5: 实地桩号 | AY5: 老桩号
A6: 1 | B6: 2市州 | C6: 3 | D6: 4 | E6: 5 | F6: 6 | G6: 7 | H6: 8 | I6: 9 | J6: 10实施里程 | K6: 11 | L6: 12 | M6: 13 | N6: 14 | O6: 15 | P6: 16 | Q6: 17 | R6: 18 | S6: 19 | T6: 20工程分类 | U6: 21 | V6: 22 | X6: 23 | Y6: 24 | Z6: 25 | AA6: 26 | AB6: 27 | AC6: 28 | AD6: 29 | AE6: 30 | AF6: 31 | AG6: 31部省 | AH6: 32 | AI6: 33 | AJ6: 34 | AK6: 35 | AL6: 36 | AM6: 37组成类型 | AN6: 37组成类型（细分） | AO6: 38 | AP6: 39 | AQ6: 40 | AR6: 41 | AS6: 1 | AT6: 2 | AU6: 3 | AV6: 4 | AW6: 1 | AX6: 2 | AY6: 3 | AZ6: 4 | BA6: 5
B7: 总计 | J7: =SUBTOTAL(9,J10:J172) -> 162.514 | AG7: =SUBTOTAL(9,AG10:AG172) -> 17833.881
B8: 长沙市 汇总 | J8: =SUBTOTAL(9,J10:J13) -> 2.23 | AG8: =SUBTOTAL(9,AG10:AG13) -> -14.13
B9: 计划申报 汇总 | J9: =SUBTOTAL(9,J10:J11) -> 1 | AG9: =SUBTOTAL(9,AG10:AG11) -> 103.95
A10: 1 | B10: 长沙市 | C10: 浏阳市 | D10: G106 | E10: 1696 | F10: 1696.05 | G10: G106 | H10: 1716.969 | I10: =H10+J10 -> 1717.019 | J10: =F10-E10 -> 0.05 | K10: 113.70838 | L10: 28.030121 | M10: 113.71371 | N10: 28.022451 | O10: 中,次 | P10: 一级 | Q10: 15 | R10: 沥青混凝土 | S10: 大中修 | T10: 中修 | U10: 铣刨重铺 | V10: 15 | W10: 15 | Y10: 旧路病害处治+铣刨4cm沥青砼 | AB10: 改性沥青砼 | AC10: 4 | AE10: 70 | AF10: 102 | AG10: =J10*V10*AE10*AK10*0.1 -> 4.2 | AH10: 1972 | AJ10: 2022 | AK10: 0.8 | AM10: 计划申报 | AN10: 2026年对接核定项目 | AO10: 2026年对接核定项目 | AP10: 省公路事务中心 | AQ10: 2022年中修（G106线1695.800-1696.050）；2013年大修（G106线1717.000-1718.000）； | AR10: 1972 | AS10: G106 1695.8-1696.05 0.05km 中修 2022第1批 | AW10: G106 1716.769-1717.019 0.05km 中修 2022第1批 | BB10: 打折
A11: 2 | B11: 长沙市 | C11: 浏阳市 | D11: G106 | E11: 1696.05 | F11: 1697 | G11: G106 | H11: 1717.019 | I11: 1717.969 | J11: =F11-E11 -> 0.95 | K11: 113.70838 | L11: 28.030121 | M11: 113.71371 | N11: 28.022451 | O11: 中,次 | P11: 一级 | Q11: 15 | R11: 沥青混凝土 | S11: 大中修 | T11: 中修 | U11: 铣刨重铺 | V11: 15 | W11: 15 | Y11: 旧路病害处治+铣刨4cm沥青砼 | AB11: 改性沥青砼 | AC11: 4 | AE11: 70 | AF11: 102 | AG11: =J11*V11*AE11*AK11*0.1 -> 99.75 | AH11: 1972 | AK11: 1 | AM11: 计划申报 | AN11: 2026年对接核定项目 | AO11: 2026年对接核定项目 | AP11: 省公路事务中心 | AQ11: 2022年中修（G106线1695.800-1696.050）；2013年大修（G106线1717.000-1718.000）； | AR11: 1972 | AS11: G106 1695.8-1696.05 0.05km 中修 2022第1批 | AW11: G106 1716.769-1717.019 0.05km 中修 2022第1批
B12: 计划调整 汇总 | J12: =SUBTOTAL(9,J13) -> 1.23 | AG12: =SUBTOTAL(9,AG13) -> -118.08
A13: 3 | B13: 长沙市 | C13: 望城区 | D13: S101 | E13: 16.29 | F13: 17.52 | G13: S101 | H13: 16.29 | I13: 17.52 | J13: =F13-E13 -> 1.23 | K13: 112.83906 | L13: 28.345519 | M13: 112.93185 | N13: 28.354446 | O13: 中 | P13: 一级 | Q13: 36 | R13: 沥青混凝土 | S13: 大中修 | T13: 预防性养护 | U13: 薄层罩面 | V13: 24 | W13: 36 | AB13: 改性沥青砼 | AC13: 2-3 | AD13: 薄层罩面 | AE13: 40 | AF13: 177.12 | AG13: =-J13*V13*AE13*AK13*0.1 -> -118.08 | AH13: 2008 | AK13: 1 | AL13: 随着地铁四号线工程项目的深入推进，S101线K16.29-K17.52段局部路段已变为地铁施工区域，且长时间内将无法进行薄层罩面施工，强行实施薄层罩面难以确保实施路段连续及施工质量，同时也极易造成不利的社会舆情，申请取消该段薄层罩面计划。 | AM13: 计划调整 | AN13: 计划调整项目 | AO13: 2026年第一批资金计划下达该路段预防性养护任务，因地铁施工，申请取消计划，本次扣减补助资金118万元。 | AP13: 省公路事务中心 | AR13: 2008 | AS13: S101 16.29-17.52 1.23km 预防性养护 2026第1批
B14: 株洲市 汇总 | J14: =SUBTOTAL(9,J16:J25) -> 10.703 | AG14: =SUBTOTAL(9,AG16:AG25) -> 1918.602
B15: 计划申报 汇总 | J15: =SUBTOTAL(9,J16:J25) -> 10.703 | AG15: =SUBTOTAL(9,AG16:AG25) -> 1918.602
A16: 4 | B16: 株洲市 | C16: 醴陵市 | D16: G106 | E16: 1749.797 | F16: 1751 | G16: G106 | H16: 1776 | I16: 1777.203 | J16: =F16-E16 -> 1.203 | K16: 113.49443 | L16: 27.464522 | M16: 113.50581 | N16: 27.622516 | O16: 中 | P16: 二级 | Q16: 12 | R16: 沥青混凝土 | S16: 大中修 | T16: 中修 | U16: 铣刨重铺 | V16: 12 | W16: 12 | Y16: 旧路病害处治+铣刨4cm沥青砼 | AB16: 改性沥青砼 | AC16: 4 | AE16: 70 | AF16: 98.16 | AG16: =J16*V16*AE16*AK16*0.1 -> 101.052 | AH16: 2002 | AJ16: 2022 | AK16: 1 | AM16: 计划申报 | AN16: 2026年对接核定项目 | AO16: 2026年对接核定项目，2021年提前实施，不打折 | AP16: 省公路事务中心 | AQ16: 2022年中修（G106线1749.797-1750.000）；2018年中修（G106线1732.696-1758.379）；2017年大修（G106线1777.000-1778.000）； | AR16: 2002 | AS16: G106 1749.797-1750 0.203km 中修 2022第1批 | AT16: G106 1750-1756.797 1km 中修 2022第1批 | AW16: G106 1776-1776.203 0.203km 中修 2022第1批 | AX16: G106 1776.203-1783 1km 中修 2022第1批 | AY16: G106 1774.522-1779.522 1.203km 预防性养护 2018第1批 | AZ16: G106 1776-1778 1.203km 大修 2016第1批 | BA16: G106 1777-1778 0.203km 大修 2017第1批
A17: 5 | B17: 株洲市 | C17: 醴陵市 | D17: G106 | E17: 1766 | F17: 1767 | G17: G106 | H17: 1782.203 | I17: 1783.203 | J17: =F17-E17 -> 1 | K17: 113.48808 | L17: 27.491625 | M17: 113.48981 | N17: 27.48274 | O17: 中 | P17: 二级 | Q17: 12 | R17: 沥青混凝土 | S17: 大中修 | T17: 中修 | U17: 铣刨重铺 | V17: 12 | W17: 12 | Y17: 旧路病害处治+铣刨4cm沥青砼 | AB17: 改性沥青砼 | AC17: 4 | AE17: 70 | AF17: 81.6 | AG17: =J17*V17*AE17*AK17*0.1 -> 84 | AH17: 2002 | AJ17: 2022 | AK17: 1 | AM17: 计划申报 | AN17: 2026年对接核定项目 | AO17: 2026年对接核定项目，2021年提前实施，不打折 | AP17: 省公路事务中心 | AQ17: 2022年中修（G106线1761.100-1767.181）；2019年大修（G106线1765.781-1767.181）； | AR17: 2002 | AS17: G106 1761.1-1767.181 1km 中修 2022第1批 | AT17: G106 1765.781-1767.181 1km 大修 2019第1批 | AW17: G106 1776.203-1783 0.797km 中修 2022第1批 | AX17: G106 1783-1784.811 0.203km 中修 2022第1批 | AY17: G106 1783-1784.808 0.203km 大修 2020第2批 | AZ17: G106 1782-1783 0.797km 大修 2017第1批
A18: 6 | B18: 株洲市 | C18: 醴陵市 | D18: G106 | E18: 1770 | F18: 1771 | G18: G106 | H18: 1795.445 | I18: 1796.445 | J18: =F18-E18 -> 1 | K18: 113.49245 | L18: 27.457255 | M18: 113.48942 | N18: 27.448772 | O18: 次 | P18: 二级 | Q18: 12 | R18: 沥青混凝土 | S18: 大中修 | T18: 大修 | U18: 旧路病害处治后加铺 | V18: 12 | W18: 12 | Y18: 旧路病害处治后加铺 | Z18: 水稳 | AA18: 30 | AB18: 改性沥青砼 | AC18: 9 | AE18: 215 | AF18: 258 | AG18: =J18*V18*AE18*AI18*0.1 -> 258 | AH18: 2002 | AI18: 1 | AJ18: 2022 | AM18: 计划申报 | AN18: 2026年对接核定项目 | AO18: 2026年对接核定项目，2021年提前实施，不打折 | AP18: 省公路事务中心 | AQ18: 2022年中修（G106线1769.532-1771.532）；2017年大修（G106线1796.000-1798.000）； | AR18: 2002 | AS18: G106 1769.532-1771.532 1km 中修 2022第1批 | AW18: G106 1796-1798 1km 中修 2022第1批 | AX18: G106 1794.983-1798.151 1km 中修 2018第1批 | AY18: G106 1796-1798 1km 大修 2016第2批
A19: 7 | B19: 株洲市 | C19: 醴陵市 | D19: G106 | E19: 1771 | F19: 1772 | G19: G106 | H19: 1796.445 | I19: 1797.445 | J19: =F19-E19 -> 1 | K19: 113.48942 | L19: 27.448772 | M19: 113.48679 | N19: 27.440063 | O19: 次 | P19: 二级 | Q19: 12 | R19: 沥青混凝土 | S19: 大中修 | T19: 大修 | U19: 旧路病害处治后加铺 | V19: 12 | W19: 12 | Y19: 旧路病害处治后加铺 | Z19: 水稳 | AA19: 30 | AB19: 改性沥青砼 | AC19: 9 | AE19: 215 | AF19: 258 | AG19: =J19*V19*AE19*AI19*0.1 -> 258 | AH19: 2002 | AI19: 1 | AJ19: 2022 | AM19: 计划申报 | AN19: 2026年对接核定项目 | AO19: 2026年对接核定项目，2021年提前实施，不打折 | AP19: 省公路事务中心 | AQ19: 2022年中修（G106线1769.532-1771.532）；2021年中修（G106线1771.797-1772.797）；2017年大修（G106线1796.000-1798.000）； | AR19: 2002 | AS19: G106 1769.532-1771.532 0.532km 中修 2022第1批 | AT19: G106 1771.797-1772.797 0.203km 中修 2021第2批 | AW19: G106 1796-1798 0.797km 中修 2022第1批 | AX19: G106 1798-1799 0.203km 中修 2021第2批 | AY19: G106 1794.983-1798.151 0.948km 中修 2018第1批 | AZ19: G106 1796-1798 0.797km 大修 2016第2批 | BA19: G106 1798-1799 0.203km 大修 2016第1批
A20: 8 | B20: 株洲市 | C20: 醴陵市 | D20: G106 | E20: 1772 | F20: 1773 | G20: G106 | H20: 1797.445 | I20: 1798.445 | J20: =F20-E20 -> 1 | K20: 113.48679 | L20: 27.440063 | M20: 113.48507 | N20: 27.431551 | O20: 次 | P20: 二级 | Q20: 12 | R20: 沥青混凝土 | S20: 大中修 | T20: 大修 | U20: 旧路病害处治后加铺 | V20: 12 | W20: 12 | Y20: 旧路病害处治后加铺 | Z20: 水稳 | AA20: 30 | AB20: 改性沥青砼 | AC20: 9 | AE20: 215 | AF20: 258 | AG20: =J20*V20*AE20*AI20*0.1 -> 258 | AH20: 2002 | AI20: 1 | AJ20: 2022 | AM20: 计划申报 | AN20: 2026年对接核定项目 | AO20: 2026年对接核定项目，2021年提前实施，不打折 | AP20: 省公路事务中心 | AQ20: 2022年中修（G106线1772.532-1772.797）；2021年中修（G106线1771.797-1772.797）；2017年大修（G106线1799.000-1803.255）； | AR20: 2002 | AS20: G106 1771.797-1772.797 0.797km 中修 2021第2批 | AT20: G106 1772.797-1777.235 0.203km 中修 2022第1批 | AW20: G106 1798-1799 0.797km 中修 2021第2批 | AX20: G106 1798-1799 0.797km 大修 2016第1批 | AY20: G106 1799-1803.47 0.203km 大修 2016第2批
A21: 9 | B21: 株洲市 | C21: 醴陵市 | D21: G106 | E21: 1773 | F21: 1774 | G21: G106 | H21: 1798.445 | I21: 1799.445 | J21: =F21-E21 -> 1 | K21: 113.48507 | L21: 27.431551 | M21: 113.47846 | N21: 27.424754 | O21: 次 | P21: 二级 | Q21: 12 | R21: 沥青混凝土 | S21: 大中修 | T21: 大修 | U21: 旧路病害处治后加铺 | V21: 12 | W21: 12 | Y21: 旧路病害处治后加铺 | Z21: 水稳 | AA21: 30 | AB21: 改性沥青砼 | AC21: 9 | AE21: 215 | AF21: 258 | AG21: =J21*V21*AE21*AI21*0.1 -> 258 | AH21: 2002 | AI21: 1 | AJ21: 2022 | AM21: 计划申报 | AN21: 2026年对接核定项目 | AO21: 2026年对接核定项目，2021年提前实施，不打折 | AP21: 省公路事务中心 | AQ21: 2022年中修（G106线1772.797-1777.235）；2017年大修（G106线1799.000-1803.255）； | AR21: 2002 | AS21: G106 1772.797-1777.235 1km 中修 2022第1批 | AW21: G106 1799.265-1803.47 0.938km 中修 2022第1批 | AX21: G106 1799-1803.47 1km 大修 2016第2批
A22: 10 | B22: 株洲市 | C22: 攸县 | D22: G106 | E22: 1785 | F22: 1786 | G22: G106 | H22: 1811.235 | I22: 1812.235 | J22: =F22-E22 -> 1 | K22: 113.39129 | L22: 27.018364 | M22: 113.39129 | N22: 27.018362 | O22: 差 | P22: 二级 | Q22: 12 | R22: 沥青混凝土 | S22: 大中修 | T22: 大修 | U22: 旧路病害处治后加铺 | V22: 12 | W22: 12 | Y22: 旧路病害处治后加铺 | Z22: 水稳 | AA22: 30 | AB22: 改性沥青砼 | AC22: 9 | AE22: 215 | AF22: 258 | AG22: =J22*V22*AE22*AI22*0.1 -> 154.8 | AH22: 2013 | AI22: 0.6 | AJ22: 2023 | AM22: 计划申报 | AN22: 2026年对接核定项目 | AO22: 2026年对接核定项目 | AP22: 省公路事务中心 | AQ22: 2023年中修（G106线1785.000-1786.000）；2013年大修（G106线1808.054-1814.000）； | AR22: 2013 | AS22: G106 1785-1786 1km 中修 2023第2批 | AW22: 接G106 1810.841-1811.235 0km 中修 2024第2批 | AX22: G106 1811.235-1812.235 1km 中修 2023第2批 | AY22: 接G106 1812.235-1813.235 0km 中修 2024第2批 | AZ22: G106 1808.054-1813.509 1km 大修 2013第2批 | BB22: 打折
A23: 11 | B23: 株洲市 | C23: 攸县 | D23: G106 | E23: 1795 | F23: 1796.5 | G23: G106 | H23: 1821.235 | I23: 1822.735 | J23: =F23-E23 -> 1.5 | K23: 113.39123 | L23: 27.018452 | M23: 113.3912 | N23: 27.018444 | O23: 差 | P23: 二级 | Q23: 12 | R23: 沥青混凝土 | S23: 大中修 | T23: 大修 | U23: 旧路病害处治后加铺 | V23: 12 | W23: 12 | Y23: 旧路病害处治后加铺 | Z23: 水稳 | AA23: 30 | AB23: 改性沥青砼 | AC23: 9 | AE23: 215 | AF23: 387 | AG23: =J23*V23*AE23*AI23*0.1 -> 309.6 | AH23: 2010 | AI23: 0.8 | AJ23: 2022 | AM23: 计划申报 | AN23: 2026年对接核定项目 | AO23: 2026年对接核定项目 | AP23: 省公路事务中心 | AQ23: 2022年中修（G106线1795.000-1797.500）；2018年中修（G106线1794.983-1798.151）；2014年大修（G106线1813.509-1824.171）； | AR23: 2010 | AS23: G106 1795-1797.5 1.5km 中修 2022第4批 | AT23: G106 1796.1-1801.1 0.4km 预防性养护 2019第2批 | AW23: G106 1821.235-1823.735 1.5km 中修 2022第4批 | AX23: G106 1822.335-1827.335 0.4km 预防性养护 2019第2批 | AY23: G106 1813.509-1824.171 1.5km 大修 2014第1批 | AZ23: 接G106 1819.235-1821.235 0km 大修 2025第2批 | BB23: 打折
A24: 12 | B24: 株洲市 | C24: 茶陵县 | D24: G322 | E24: 1101 | F24: 1102 | G24: S320 | H24: 17.588 | I24: 18.588 | J24: =F24-E24 -> 1 | K24: 113.72271 | L24: 26.937753 | M24: 113.71357 | N24: 26.934822 | O24: 次,差 | P24: 二级 | Q24: 9 | R24: 沥青混凝土 | S24: 大中修 | T24: 大修 | U24: 旧路病害处治后加铺 | V24: 9 | W24: 9 | Y24: 旧路病害处治后加铺 | Z24: 水稳 | AA24: 30 | AB24: 改性沥青砼 | AC24: 9 | AE24: 215 | AF24: 174.15 | AG24: =J24*V24*AE24*AI24*0.1 -> 174.15 | AH24: 2017 | AI24: 0.9 | AM24: 计划申报 | AN24: 2026年对接核定项目 | AO24: 2026年对接核定项目 | AP24: 省公路事务中心 | AQ24: 2017年大修（S320线16.000-43.000）； | AR24: 1968 | AW24: S320 16-43 1km 大修 2017第2批 | BB24: 打折
A25: 13 | B25: 株洲市 | C25: 茶陵县 | D25: G322 | E25: 1113 | F25: 1114 | G25: S320 | H25: 29.588 | I25: 30.588 | J25: =F25-E25 -> 1 | K25: 113.632 | L25: 26.874519 | M25: 113.62644 | N25: 26.866978 | O25: 中 | P25: 二级 | Q25: 9 | R25: 沥青混凝土 | S25: 大中修 | T25: 中修 | U25: 铣刨重铺 | V25: 9 | W25: 9 | Y25: 旧路病害处治+铣刨4cm沥青砼 | AB25: 改性沥青砼 | AC25: 4 | AE25: 70 | AF25: 76.5 | AG25: =J25*V25*AE25*AK25*0.1 -> 63 | AH25: 2017 | AK25: 1 | AM25: 计划申报 | AN25: 2026年对接核定项目 | AO25: 2026年对接核定项目 | AP25: 省公路事务中心 | AQ25: 2017年大修（S320线16.000-43.000）； | AR25: 1968 | AW25: S320 16-43 1km 大修 2017第2批 | AX25: S320 27.623-29.623 0.035km 大修 2025第2批
B26: 湘潭市 汇总 | J26: =SUBTOTAL(9,J28:J31) -> 5.263 | AG26: =SUBTOTAL(9,AG28:AG31) -> 552.0552
B27: 计划申报 汇总 | J27: =SUBTOTAL(9,J28) -> 2.025 | AG27: =SUBTOTAL(9,AG28) -> 486
A28: 14 | B28: 湘潭市 | C28: 湘乡市 | D28: G240 | E28: 1781.988 | F28: 1784.013 | G28: A000 | H28: 0 | I28: 0 | J28: =F28-E28 -> 2.025 | K28: 0 | L28: 0 | M28: 0 | N28: 0 | O28: 中 | P28: 一级 | Q28: 32 | R28: 水泥混凝土 | S28: 大中修 | T28: 大修 | U28: “白加黑”（100） | V28: 24 | W28: 32 | AB28: 改性沥青砼 | AC28: 8 | AE28: 100 | AG28: =J28*V28*AE28*AI28*0.1 -> 486 | AH28: 2009 | AI28: 1 | AL28: 该路段年报数据为沥青混凝土路面，实际为水泥路面。申请实施水泥路面大修“白加黑”改造：旧路病害处治+防裂措施+不小于5cm沥青砼面层+不小于3cm改性沥青砼面层。实施改造后移交城管。 | AM28: 计划申报 | AN28: 2026年对接核定项目，新增 | AO28: 2026年对接核定项目，新增，该路段年报数据为沥青混凝土路面，实际为水泥路面。实施改造后移交城管。 | AP28: 省公路事务中心 | AR28: 2009
B29: 计划调整 汇总 | J29: =SUBTOTAL(9,J30:J31) -> 3.238 | AG29: =SUBTOTAL(9,AG30:AG31) -> 66.0552
A30: 15 | B30: 湘潭市 | C30: 湘潭县 | D30: G107 | E30: 1797 | F30: 1798 | G30: G107 | H30: 1703.672 | I30: 1704.672 | J30: =F30-E30 -> 1 | K30: 0 | L30: 0 | M30: 0 | N30: 0 | O30: 中 | P30: 二级 | Q30: 12 | R30: 沥青混凝土 | S30: 大中修 | T30: 中修 | U30: 铣刨重铺 | V30: 12 | W30: 12 | Y30: 铣刨重铺 | AB30: 改性沥青砼 | AC30: 4 | AE30: 85 | AF30: 258 | AG30: =J30*V30*AE30*AK30*0.1*0.2 -> 20.4 | AJ30: 2021 | AK30: 1 | AL30: 申请2026年第一批资金计划中G107线，K1797-K1798，剩余20%补助 | AM30: 计划调整 | AN30: 计划调整项目 | AO30: 2026 年第一批资金下达项目 2026 年资金不应打折，原系数取值有误。前期测算误将 2021 年中修工程按 0.8 系数折算，申请补齐 0.2 折算对应的资金差额。 | AP30: 省公路事务中心 | AQ30: 2026年中修（G107线1797.000-1798.000）；2021年中修（G107线1797.000-1798.000）； | AR30: 2009 | AS30: G107 1797-1798 1km 中修 2021第1批 | AT30: G107 1797-1798 1km 中修 2026第1批 | AW30: 接G107 1700.672-1703.672 0km 大修 2020第2批 | AX30: G107 1703.672-1704.672 1km 中修 2021第1批 | AY30: 接G107 1704.672-1705.396 0km 大修 2020第2批 | BB30: =J30*V30*AE30*AK30*0.1*0.8 -> 81.6
A31: 16 | B31: 湘潭市 | C31: 湘潭县 | D31: G107 | E31: 1806 | F31: 1808.238 | G31: G107 | H31: 1712.672 | I31: 1714.91 | J31: =F31-E31 -> 2.238 | K31: 0 | L31: 0 | M31: 0 | N31: 0 | O31: 良 | P31: 二级 | Q31: 12 | R31: 沥青混凝土 | S31: 大中修 | T31: 中修 | U31: 铣刨重铺 | V31: 12 | W31: 12 | Y31: 铣刨重铺 | AB31: 改性沥青砼 | AC31: 4 | AE31: 85 | AF31: 577.4 | AG31: =J31*V31*AE31*AK31*0.1*0.2 -> 45.6552 | AJ31: 2021 | AK31: 1 | AL31: 申请2026年第一批资金计划中G107线，K1806-K1806.238，剩余20%补助 | AM31: 计划调整 | AN31: 计划调整项目 | AO31: 2026 年第一批资金下达项目 2026 年资金不应打折，原系数取值有误。前期测算误将 2021 年中修工程按 0.8 系数折算，申请补齐 0.2 折算对应的资金差额。 | AP31: 省公路事务中心 | AQ31: 2026年中修（G107线1806.000-1807.000）；2021年中修（G107线1806.000-1808.238）； | AR31: 2008 | AS31: G107 1806-1808.238 2.238km 中修 2021第1批 | AT31: G107 1806-1807 1km 中修 2026第1批 | AU31: G107 1807-1808.238 1.238km 中修 2026第1批 | AW31: 接G107 1709.672-1712.672 0km 大修 2020第2批 | AX31: G107 1712.672-1714.91 2.238km 中修 2021第1批 | AY31: 接G107 1714.91-1718.5 0km 预防性养护 2020第2批 | BB31: =J31*V31*AE31*AK31*0.1*0.8 -> 182.6208
B32: 衡阳市 汇总 | J32: =SUBTOTAL(9,J34:J40) -> 13.223 | AG32: =SUBTOTAL(9,AG34:AG40) -> 743.946
B33: 计划申报 汇总 | J33: =SUBTOTAL(9,J34:J40) -> 13.223 | AG33: =SUBTOTAL(9,AG34:AG40) -> 743.946
A34: 17 | B34: 衡阳市 | C34: 衡山县 | D34: G240 | E34: 1870.002 | F34: 1872.627 | G34: S314 | H34: 22.845 | I34: 20.22 | J34: =F34-E34 -> 2.625 | K34: 112.8569 | L34: 27.2542 | M34: 112.8755 | N34: 27.234 | O34: 良 | P34: 一级 | Q34: 40 | R34: 沥青混凝土 | S34: 大中修 | T34: 中修 | U34: 铣刨重铺 | V34: 7.5 | W34: 7.5 | Y34: 旧路病害处治+铣刨4cm沥青砼 | AB34: 改性沥青砼 | AC34: 4 | AE34: 70 | AF34: 133.88 | AG34: =J34*V34*AE34*AK34*0.1 -> 110.25 | AH34: 1995 | AJ34: 2022 | AK34: 0.8 | AM34: 计划申报 | AN34: 新增项目 | AO34: 路况差，市州申报新纳入项目 | AP34: 省公路事务中心 | AQ34: 2022年中修（G240线1870.002-1872.627）； | AR34: 1995 | AS34: G240 1870.002-1872.627 2.625km 中修 2022第1批 | AW34: S314 22.845-20.22 -2.625km 中修 2022第1批 | AX34: S314 20.245-22.845 2.6km 中修 2011第2批
A35: 18 | B35: 衡阳市 | C35: 衡东县 | D35: G240 | E35: 1876.85 | F35: 1881 | G35: S314 | H35: 15.218 | I35: 11.068 | J35: =F35-E35 -> 4.15 | K35: 112.87859 | L35: 27.20593 | M35: 112.89145 | N35: 27.174258 | O35: 良 | P35: 二级 | Q35: 12 | R35: 沥青混凝土 | S35: 大中修 | T35: 中修 | U35: 罩面 | V35: 12 | W35: 12 | Y35: 旧路病害处治 | AB35: 改性沥青砼 | AC35: 4 | AE35: 70 | AF35: 278.88 | AG35: =J35*V35*AE35*AK35*0.1 -> 278.88 | AH35: 1965 | AJ35: 2022 | AK35: 0.8 | AM35: 计划申报 | AN35: 新增项目 | AO35: 路况差，市州申报新纳入项目 | AP35: 省公路事务中心 | AQ35: 2022年中修（G240线1876.850-1881.000）； | AR35: 1965 | AS35: G240 1876.85-1881 4.15km 中修 2022第1批 | AW35: 接S314 16.248-15.218 0km 中修 2024第2批 | AX35: S314 15.218-11.068 -4.15km 中修 2022第1批 | AY35: 接S314 11.068-9.068 0km 预防性养护 2021第2批
A36: 19 | B36: 衡阳市 | C36: 衡东县 | D36: G240 | E36: 1883 | F36: 1885 | G36: S314 | H36: 9.068 | I36: 7.068 | J36: =F36-E36 -> 2 | K36: 112.90077 | L36: 27.158738 | M36: 112.91067 | N36: 27.143418 | O36: 良 | P36: 二级 | Q36: 12 | R36: 沥青混凝土 | S36: 大中修 | T36: 中修 | U36: 罩面 | V36: 12 | W36: 12 | Y36: 旧路病害处治 | AB36: 改性沥青砼 | AC36: 4 | AE36: 70 | AF36: 168 | AG36: =J36*V36*AE36*AK36*0.1 -> 168 | AH36: 1965 | AK36: 1 | AM36: 计划申报 | AN36: 新增项目 | AO36: 路况差，市州申报新纳入项目 | AP36: 省公路事务中心 | AR36: 1965 | AS36: G240 1883-1885 2km 预防性养护 2022第1批 | AW36: 接S314 11.068-9.068 0km 预防性养护 2021第2批 | AX36: S314 9.068-7.068 -2km 预防性养护 2022第1批
A37: 20 | B37: 衡阳市 | C37: 祁东县 | D37: G322 | E37: 1337 | F37: 1337.157 | G37: G322 | H37: 52.795 | I37: 52.952 | J37: =F37-E37 -> 0.157 | K37: 112.15097 | L37: 26.779654 | M37: 112.14949 | N37: 26.779936 | O37: 良 | P37: 二级 | Q37: 15 | R37: 沥青混凝土 | S37: 大中修 | T37: 中修 | U37: 铣刨重铺 | V37: 7.5 | W37: 7.5 | Y37: 旧路病害处治+铣刨4cm沥青砼 | AB37: 改性沥青砼 | AC37: 4 | AE37: 70 | AF37: 8.01 | AG37: =J37*V37*AE37*AK37*0.1 -> 6.594 | AH37: 1962 | AJ37: 2022 | AK37: 0.8 | AM37: 计划申报 | AN37: 新增项目 | AO37: 路况差，市州申报新纳入项目 | AP37: 省公路事务中心 | AQ37: 2022年中修（G322线1337.000-1337.157）；2017年大修（G322线51.000-52.804）； | AR37: 1962 | AS37: G322 1337-1337.157 0.157km 中修 2022第1批 | AW37: G322 52.795-52.952 0.157km 中修 2022第1批 | AX37: 接G322 52.952-53.795 0km 中修 2022第1批 | AY37: G322 51-52.804 0.009km 大修 2017第1批 | AZ37: G322 52.804-54.704 0.148km 大修 2012第1批
A38: 21 | B38: 衡阳市 | C38: 祁东县 | D38: G322 | E38: 1337.157 | F38: 1338 | G38: G322 | H38: 52.952 | I38: 53.795 | J38: =F38-E38 -> 0.843 | K38: 112.14949 | L38: 26.779936 | M38: 112.14152 | N38: 26.778489 | O38: 良 | P38: 二级 | Q38: 20 | R38: 沥青混凝土 | S38: 大中修 | T38: 中修 | U38: 铣刨重铺 | V38: 7.5 | W38: 7.5 | Y38: 旧路病害处治+铣刨4cm沥青砼 | AB38: 改性沥青砼 | AC38: 4 | AE38: 70 | AF38: 42.99 | AG38: =J38*V38*AE38*AK38*0.1 -> 35.406 | AH38: 1962 | AJ38: 2022 | AK38: 0.8 | AM38: 计划申报 | AN38: 新增项目 | AO38: 路况差，市州申报新纳入项目 | AP38: 省公路事务中心 | AQ38: 2022年中修（G322线1337.157-1338.000）； | AR38: 1962 | AS38: G322 1337.157-1338 0.843km 中修 2022第1批 | AW38: 接G322 52.795-52.952 0km 中修 2022第1批 | AX38: G322 52.952-53.795 0.843km 中修 2022第1批 | AY38: 接G322 53.795-55.046 0km 中修 2023第2批 | AZ38: G322 52.804-54.704 0.843km 大修 2012第1批
A39: 22 | B39: 衡阳市 | C39: 祁东县 | D39: G322 | E39: 1342 | F39: 1342.568 | G39: G322 | H39: 57.795 | I39: 58.363 | J39: =F39-E39 -> 0.568 | K39: 112.10278 | L39: 26.784432 | M39: 112.10067 | N39: 26.788851 | O39: 良 | P39: 二级 | Q39: 20 | R39: 沥青混凝土 | S39: 大中修 | T39: 中修 | U39: 铣刨重铺 | V39: 7.5 | W39: 7.5 | Y39: 旧路病害处治+铣刨4cm沥青砼 | AB39: 改性沥青砼 | AC39: 4 | AE39: 70 | AF39: 28.97 | AG39: =J39*V39*AE39*AK39*0.1 -> 23.856 | AH39: 1962 | AJ39: 2022 | AK39: 0.8 | AM39: 计划申报 | AN39: 新增项目 | AO39: 路况差，市州申报新纳入项目 | AP39: 省公路事务中心 | AQ39: 2022年中修（G322线1342.000-1342.568）； | AR39: 1962 | AS39: G322 1342-1342.568 0.568km 中修 2022第1批 | AW39: 接G322 57.79-57.795 0km 中修 2024第2批 | AX39: G322 57.795-58.363 0.568km 中修 2022第1批 | AY39: 接G322 58.363-58.5 0km 中修 2022第1批 | AZ39: G322 55.3-58.5 0.568km 中修 2015第1批
A40: 23 | B40: 衡阳市 | C40: 祁东县 | D40: G322 | E40: 1342.568 | F40: 1345.448 | G40: G322 | H40: 58.363 | I40: 61.243 | J40: =F40-E40 -> 2.88 | K40: 112.10067 | L40: 26.788851 | M40: 112.07254 | N40: 26.793871 | O40: 良 | P40: 二级 | Q40: 30 | R40: 沥青混凝土 | S40: 大中修 | T40: 中修 | U40: 铣刨重铺 | V40: 7.5 | W40: 7.5 | Y40: 旧路病害处治+铣刨4cm沥青砼 | AB40: 改性沥青砼 | AC40: 4 | AE40: 70 | AF40: 146.88 | AG40: =J40*V40*AE40*AK40*0.1 -> 120.96 | AH40: 1962 | AJ40: 2022 | AK40: 0.8 | AM40: 计划申报 | AN40: 新增项目 | AO40: 路况差，市州申报新纳入项目 | AP40: 省公路事务中心 | AQ40: 2022年中修（G322线1342.568-1342.705）； | AR40: 1962 | AS40: G322 1342.568-1342.705 0.137km 中修 2022第1批 | AT40: G322 1342.705-1345.448 2.743km 中修 2022第1批 | AW40: 接G322 57.795-58.363 0km 中修 2022第1批 | AX40: G322 58.363-58.5 0.137km 中修 2022第1批 | AY40: G322 58.5-61.243 2.743km 中修 2022第1批 | AZ40: G322 55.3-58.5 0.137km 中修 2015第1批
...
